BEGIN:VCALENDAR
VERSION:2.0
PRODID:-//www.disabilityrightsnebraska.org//NONSGML kigkonsult.se iCalcreat
 or 2.30.10//
CALSCALE:GREGORIAN
METHOD:PUBLISH
UID:0aa09bf1-e0ed-447b-9182-f09678c702e0
X-WR-CALDESC:Quarterly Board Meeting
X-WR-RELCALID:97d273c01200eedbcdf68ea9a28b88ae
X-WR-TIMEZONE:America/Chicago
BEGIN:VTIMEZONE
TZID:America/Chicago
BEGIN:STANDARD
TZNAME:CST
DTSTART:20141102T020000
TZOFFSETFROM:-0500
TZOFFSETTO:-0600
RDATE:20151101T020000
END:STANDARD
BEGIN:DAYLIGHT
TZNAME:CDT
DTSTART:20140309T020000
TZOFFSETFROM:-0600
TZOFFSETTO:-0500
RDATE:20150308T020000
RDATE:20160313T020000
END:DAYLIGHT
END:VTIMEZONE
BEGIN:VEVENT
UID:2b2b6000-998b-42f1-a584-07f2e6606948
DTSTAMP:20260426T004549Z
DESCRIPTION:Quarterly Board Meeting
DTSTART;TZID=America/Chicago:20150214T100000
DTEND;TZID=America/Chicago:20150214T140000
LOCATION:Boardroom - 5th Floor\, Federal Trust Building\, Lincoln
SUMMARY:BOARD MEETING
END:VEVENT
END:VCALENDAR
