BEGIN:VCALENDAR
VERSION:2.0
PRODID:-//www.disabilityrightsnebraska.org//NONSGML kigkonsult.se iCalcreat
 or 2.30.10//
CALSCALE:GREGORIAN
METHOD:PUBLISH
UID:5c4ed8f4-575a-436b-b2be-50d337804999
X-WR-CALDESC:Wosjabe is a traditional Lakota berry or fruit sauce served wi
 th fry-bread.  Our friends at the Lakota Lutheran Center in Scottsbluff wi
 ll be hosting this unique event to raise friends and funds for Disability 
 Rights Nebraska.  LUNCH WILL BE SERVED with a brief presentation at Noon. 
  This is a free will offering with all proceeds to benefit the work of Dis
 ability Rights Nebraska.  Please come and join us for a taste of tradition
 al Lakota berry sauce\, fry-bread\, and a light lunch.  Meet our CEO\, mak
 e new friends\, and have some enjoyable conversation.
X-WR-RELCALID:a481bc358a4ed8950b87de05942415f8
X-WR-TIMEZONE:America/Chicago
BEGIN:VTIMEZONE
TZID:America/Chicago
BEGIN:STANDARD
TZNAME:CST
DTSTART:20141102T020000
TZOFFSETFROM:-0500
TZOFFSETTO:-0600
RDATE:20151101T020000
END:STANDARD
BEGIN:DAYLIGHT
TZNAME:CDT
DTSTART:20140309T020000
TZOFFSETFROM:-0600
TZOFFSETTO:-0500
RDATE:20150308T020000
RDATE:20160313T020000
END:DAYLIGHT
END:VTIMEZONE
BEGIN:VEVENT
UID:6441e0ce-9a7c-44a3-a351-5e48a56629b6
DTSTAMP:20260426T003830Z
DESCRIPTION:Wosjabe is a traditional Lakota berry or fruit sauce served wit
 h fry-bread.  Our friends at the Lakota Lutheran Center in Scottsbluff wil
 l be hosting this unique event to raise friends and funds for Disability R
 ights Nebraska.  LUNCH WILL BE SERVED with a brief presentation at Noon.  
 This is a free will offering with all proceeds to benefit the work of Disa
 bility Rights Nebraska.  Please come and join us for a taste of traditiona
 l Lakota berry sauce\, fry-bread\, and a light lunch.  Meet our CEO\, make
  new friends\, and have some enjoyable conversation.
DTSTART;TZID=America/Chicago:20150226T113000
DTEND;TZID=America/Chicago:20150226T133000
LOCATION:Lakota Lutheran Center\, Scottsbluff
SUMMARY:Wosjape Tasting Event
END:VEVENT
END:VCALENDAR
