BEGIN:VCALENDAR
VERSION:2.0
PRODID:-//www.disabilityrightsnebraska.org//NONSGML kigkonsult.se iCalcreat
 or 2.30.10//
CALSCALE:GREGORIAN
METHOD:PUBLISH
UID:df07f237-b1b2-44e9-a834-ca4c477bb16b
X-WR-CALDESC:Join us for lunch or dinner at these Noodles & Company locatio
 ns:  OMAHA - 72nd & Dodge Street\; LINCOLN - 14th & P Streets.  Dine in or
  Take Out.  \n\n<b>MENTION THAT YOU ARE THERE FOR THE FUNDRAISER FOR DISAB
 ILITIY RIGHTS NEBRASKA or GIVE THEM THE FLIER. </b> \n\nNoodles & Company 
 will donate 25% of the sales at these locations to support Disability Righ
 ts Nebraska
X-WR-RELCALID:3dab4635f013457d1dbdea2a28de5fb1
X-WR-TIMEZONE:America/Chicago
BEGIN:VTIMEZONE
TZID:America/Chicago
BEGIN:STANDARD
TZNAME:CST
DTSTART:20141102T020000
TZOFFSETFROM:-0500
TZOFFSETTO:-0600
RDATE:20151101T020000
END:STANDARD
BEGIN:DAYLIGHT
TZNAME:CDT
DTSTART:20150308T020000
TZOFFSETFROM:-0600
TZOFFSETTO:-0500
RDATE:20160313T020000
END:DAYLIGHT
END:VTIMEZONE
BEGIN:VEVENT
UID:54035a9a-0af6-489e-ab82-a41bc87d3a6c
DTSTAMP:20260425T230932Z
DESCRIPTION:Join us for lunch or dinner at these Noodles & Company location
 s:  OMAHA - 72nd & Dodge Street\; LINCOLN - 14th & P Streets.  Dine in or 
 Take Out.  \n\n<b>MENTION THAT YOU ARE THERE FOR THE FUNDRAISER FOR DISABI
 LITIY RIGHTS NEBRASKA or GIVE THEM THE FLIER. </b> \n\nNoodles & Company w
 ill donate 25% of the sales at these locations to support Disability Right
 s Nebraska
DTSTART;TZID=America/Chicago:20150312T110000
DTEND;TZID=America/Chicago:20150312T193000
LOCATION:Lincoln and Omaha
SUMMARY:Noodles & Company Fund Raiser
END:VEVENT
END:VCALENDAR
