BEGIN:VCALENDAR
VERSION:2.0
PRODID:-//www.disabilityrightsnebraska.org//NONSGML kigkonsult.se iCalcreat
 or 2.30.10//
CALSCALE:GREGORIAN
METHOD:PUBLISH
UID:55f439ef-5a52-4cb9-bf63-bd5d161d8b62
X-WR-CALDESC:Location: Younes Conference Center Kearney\, NE\n
X-WR-RELCALID:6e20d2f8edc7892b5d1de19e1b275203
X-WR-TIMEZONE:America/Chicago
BEGIN:VTIMEZONE
TZID:America/Chicago
BEGIN:STANDARD
TZNAME:CST
DTSTART:20141102T020000
TZOFFSETFROM:-0500
TZOFFSETTO:-0600
RDATE:20151101T020000
END:STANDARD
BEGIN:DAYLIGHT
TZNAME:CDT
DTSTART:20150308T020000
TZOFFSETFROM:-0600
TZOFFSETTO:-0500
RDATE:20160313T020000
END:DAYLIGHT
END:VTIMEZONE
BEGIN:VEVENT
UID:1689bfbd-d02b-4083-b856-93a81c456fb7
DTSTAMP:20260425T210643Z
DESCRIPTION:Location: Younes Conference Center Kearney\, NE\n
DTSTART;TZID=America/Chicago:20150416T000000
DTEND;TZID=America/Chicago:20150417T235900
LOCATION:Kearney
SUMMARY:Nebraska Brain Injury Conference
END:VEVENT
END:VCALENDAR
