BEGIN:VCALENDAR
VERSION:2.0
PRODID:-//www.disabilityrightsnebraska.org//NONSGML kigkonsult.se iCalcreat
 or 2.30.10//
CALSCALE:GREGORIAN
METHOD:PUBLISH
UID:51bffefd-9e2b-46e8-91af-f8a776779884
X-WR-CALDESC:Thursday\, April 23 – 11AM to 8PM\n\nHave lunch or dinner – ea
 t in OR carryout –at Sam & Louie’s in Scottsbluff\, \nand 10% of the proce
 eds will go to Disability Rights Nebraska!\n\nAND…\n\nDon’t miss the 50/50
  Raffle in conjunction with this fundraiser-\n50% of total ticket sales wi
 ll go to the winner! \nPurchase tickets on-site the day of the event.\n\nF
 or more information about our organization\, visit our website:\n	www.disab
 ilityrightsnebraska.org \n
X-WR-RELCALID:efb922a5030678e5c38d605352459db1
X-WR-TIMEZONE:America/Chicago
BEGIN:VTIMEZONE
TZID:America/Chicago
BEGIN:STANDARD
TZNAME:CST
DTSTART:20141102T020000
TZOFFSETFROM:-0500
TZOFFSETTO:-0600
RDATE:20151101T020000
END:STANDARD
BEGIN:DAYLIGHT
TZNAME:CDT
DTSTART:20150308T020000
TZOFFSETFROM:-0600
TZOFFSETTO:-0500
RDATE:20160313T020000
END:DAYLIGHT
END:VTIMEZONE
BEGIN:VEVENT
UID:622dd994-ae96-4574-838f-2d85b9ce779b
DTSTAMP:20260425T210815Z
DESCRIPTION:Thursday\, April 23 – 11AM to 8PM\n\nHave lunch or dinner – eat
  in OR carryout –at Sam & Louie’s in Scottsbluff\, \nand 10% of the procee
 ds will go to Disability Rights Nebraska!\n\nAND…\n\nDon’t miss the 50/50 
 Raffle in conjunction with this fundraiser-\n50% of total ticket sales wil
 l go to the winner! \nPurchase tickets on-site the day of the event.\n\nFo
 r more information about our organization\, visit our website:\n	www.disabi
 lityrightsnebraska.org \n
DTSTART;TZID=America/Chicago:20150423T110000
DTEND;TZID=America/Chicago:20150423T200000
LOCATION:1522 Broadway\, Scottsbluff\, NE
SUMMARY:Sam & Louie's - Scottsbluff
END:VEVENT
END:VCALENDAR
