BEGIN:VCALENDAR
VERSION:2.0
PRODID:-//www.disabilityrightsnebraska.org//NONSGML kigkonsult.se iCalcreat
 or 2.30.10//
CALSCALE:GREGORIAN
METHOD:PUBLISH
UID:412e6a69-f617-404c-a970-52c256756915
X-WR-CALDESC:SPECIAL MEETING OF THE BOARD - Tuesday\, April 28 at 3:00 PM C
 T (2 PM MT).\n\nCONFERENCE CALL-IN INFORMATION: \n\nTo join the call\, dia
 l 1-866-906-0126\n\nAt the prompt\, enter Participant code 8205830 followe
 d by the # sign.\n\nYou will be asked for your name followed by the # sign
  and announced into the call.  \n\n\nThere will be one item on the agenda:
   Suspension of the Succession Plan\n\nIt has come to the Search Committee
 's attention that there are staff members internally who are qualified and
  interested in the CEO position.  Therefore\, the Search Committee would l
 ike to discuss with the full Board\, the possibility of suspending the Suc
 cesion Plan at this time.  This would allow the Search Committee to do an 
 internal search for a candidate first before engaging in the rest of the S
 uccession Plan and conducting a nationwide search if necessary.\n\nIf you 
 have any questions or comments\, you may contact John Lakey\, Chair of the
  Search Committee\, at lakeyjl@rcom-ne.com or by phone at 308-440-5225.\n
X-WR-RELCALID:1835716688392195c955fd360d80ba58
X-WR-TIMEZONE:America/Chicago
BEGIN:VTIMEZONE
TZID:America/Chicago
BEGIN:STANDARD
TZNAME:CST
DTSTART:20141102T020000
TZOFFSETFROM:-0500
TZOFFSETTO:-0600
RDATE:20151101T020000
END:STANDARD
BEGIN:DAYLIGHT
TZNAME:CDT
DTSTART:20150308T020000
TZOFFSETFROM:-0600
TZOFFSETTO:-0500
RDATE:20160313T020000
END:DAYLIGHT
END:VTIMEZONE
BEGIN:VEVENT
UID:c8781e2f-7ba4-4284-9200-630e8a2f7f0c
DTSTAMP:20260425T210612Z
DESCRIPTION:SPECIAL MEETING OF THE BOARD - Tuesday\, April 28 at 3:00 PM CT
  (2 PM MT).\n\nCONFERENCE CALL-IN INFORMATION: \n\nTo join the call\, dial
  1-866-906-0126\n\nAt the prompt\, enter Participant code 8205830 followed
  by the # sign.\n\nYou will be asked for your name followed by the # sign 
 and announced into the call.  \n\n\nThere will be one item on the agenda: 
  Suspension of the Succession Plan\n\nIt has come to the Search Committee'
 s attention that there are staff members internally who are qualified and 
 interested in the CEO position.  Therefore\, the Search Committee would li
 ke to discuss with the full Board\, the possibility of suspending the Succ
 esion Plan at this time.  This would allow the Search Committee to do an i
 nternal search for a candidate first before engaging in the rest of the Su
 ccession Plan and conducting a nationwide search if necessary.\n\nIf you h
 ave any questions or comments\, you may contact John Lakey\, Chair of the 
 Search Committee\, at lakeyjl@rcom-ne.com or by phone at 308-440-5225.\n
DTSTART;TZID=America/Chicago:20150428T150000
DTEND;TZID=America/Chicago:20150428T160000
LOCATION:TELEPHONE CONFERENCE CALL
SUMMARY:SPECIAL BOARD MEETING
END:VEVENT
END:VCALENDAR
