BEGIN:VCALENDAR
VERSION:2.0
PRODID:-//www.disabilityrightsnebraska.org//NONSGML kigkonsult.se iCalcreat
 or 2.30.10//
CALSCALE:GREGORIAN
METHOD:PUBLISH
UID:ed90e39e-19a0-4ac4-bf5d-24ae70e40c02
X-WR-CALDESC:Dr. Susan Marks will present an overview of the history of gua
 rdianship policies for individuals with intellectual disabilities along wi
 th an overview of national policies. The purpose of this presentation is t
 o share how the history of guardianship policies are changing and what pro
 fessionals need to consider when discussing and exploring options for guar
 dianship to better align with principles of self-determination and the vis
 ion of the United Nations Convention of the Rights of Persons with Disabil
 ities (CRPD).   \n\nRegister at:  http://tinyurl.com/lp65vbb.
X-WR-RELCALID:314677759e92ffa87f09b76851b619c3
X-WR-TIMEZONE:America/Chicago
BEGIN:VTIMEZONE
TZID:America/Chicago
BEGIN:STANDARD
TZNAME:CST
DTSTART:20141102T020000
TZOFFSETFROM:-0500
TZOFFSETTO:-0600
RDATE:20151101T020000
END:STANDARD
BEGIN:DAYLIGHT
TZNAME:CDT
DTSTART:20150308T020000
TZOFFSETFROM:-0600
TZOFFSETTO:-0500
RDATE:20160313T020000
END:DAYLIGHT
END:VTIMEZONE
BEGIN:VEVENT
UID:2e09e202-7da7-4f54-9ef4-2de1e628c8b4
DTSTAMP:20260425T210938Z
DESCRIPTION:Dr. Susan Marks will present an overview of the history of guar
 dianship policies for individuals with intellectual disabilities along wit
 h an overview of national policies. The purpose of this presentation is to
  share how the history of guardianship policies are changing and what prof
 essionals need to consider when discussing and exploring options for guard
 ianship to better align with principles of self-determination and the visi
 on of the United Nations Convention of the Rights of Persons with Disabili
 ties (CRPD).   \n\nRegister at:  http://tinyurl.com/lp65vbb.
DTSTART;TZID=America/Chicago:20150429T140000
DTEND;TZID=America/Chicago:20150429T150000
LOCATION:Webinar
SUMMARY:Guardianship for Individuals with Intellectual Disabilities
END:VEVENT
END:VCALENDAR
