BEGIN:VCALENDAR
VERSION:2.0
PRODID:-//www.disabilityrightsnebraska.org//NONSGML kigkonsult.se iCalcreat
 or 2.30.10//
CALSCALE:GREGORIAN
METHOD:PUBLISH
UID:cd9058fe-392c-4b35-b92d-73bf76126faa
X-WR-CALDESC:We are excited to have another opportunity to focus our activi
 ties in Lincoln and Lancaster County. This year our focus is outreach to H
 ispanic individuals with disabilities. \n\nWe want to educate Spanish-spea
 king Lincoln and Lancaster County residents with disabilities about their 
 rights. Our bilingual intake specialist will work with the community to pr
 ovide information\, advice\, referrals and educational presentations.\n\nW
 e serve people all across Nebraska\, but ALL of your donations to Give to 
 Lincoln will be used to promote and defend the Dignity\, Equality and Empo
 werment of individuals living in Lincoln or Lancaster County.\n\nJoin us! 
 You can make a difference. Your support will build greater inclusion in Li
 ncoln and Lancaster County. Thank you.
X-WR-RELCALID:4dd79ecaac9b2de2a93580fd32457521
X-WR-TIMEZONE:America/Chicago
BEGIN:VTIMEZONE
TZID:America/Chicago
BEGIN:STANDARD
TZNAME:CST
DTSTART:20141102T020000
TZOFFSETFROM:-0500
TZOFFSETTO:-0600
RDATE:20151101T020000
RDATE:20161106T020000
END:STANDARD
BEGIN:DAYLIGHT
TZNAME:CDT
DTSTART:20150308T020000
TZOFFSETFROM:-0600
TZOFFSETTO:-0500
RDATE:20160313T020000
END:DAYLIGHT
END:VTIMEZONE
BEGIN:VEVENT
UID:29580bc5-b8ae-4227-a287-d0edef9e874d
DTSTAMP:20260425T191913Z
DESCRIPTION:We are excited to have another opportunity to focus our activit
 ies in Lincoln and Lancaster County. This year our focus is outreach to Hi
 spanic individuals with disabilities. \n\nWe want to educate Spanish-speak
 ing Lincoln and Lancaster County residents with disabilities about their r
 ights. Our bilingual intake specialist will work with the community to pro
 vide information\, advice\, referrals and educational presentations.\n\nWe
  serve people all across Nebraska\, but ALL of your donations to Give to L
 incoln will be used to promote and defend the Dignity\, Equality and Empow
 erment of individuals living in Lincoln or Lancaster County.\n\nJoin us! Y
 ou can make a difference. Your support will build greater inclusion in Lin
 coln and Lancaster County. Thank you.
DTSTART;TZID=America/Chicago:20150528T000000
DTEND;TZID=America/Chicago:20150528T235900
LOCATION:Website
SUMMARY:Give To Lincoln
END:VEVENT
END:VCALENDAR
