BEGIN:VCALENDAR
VERSION:2.0
PRODID:-//www.disabilityrightsnebraska.org//NONSGML kigkonsult.se iCalcreat
 or 2.30.10//
CALSCALE:GREGORIAN
METHOD:PUBLISH
UID:c88814a7-f4a1-49df-ac51-e1b9e46d9453
X-WR-CALDESC:University of Nebraska - Omaha\, Thompson Alumni Center\, 6705
  Dodge St\, Omaha\, NE 68182.  (402) 554-3368\n
X-WR-RELCALID:1971c8fb2bdc1d0df9ccdf506ce84b1f
X-WR-TIMEZONE:America/Chicago
BEGIN:VTIMEZONE
TZID:America/Chicago
BEGIN:STANDARD
TZNAME:CST
DTSTART:20141102T020000
TZOFFSETFROM:-0500
TZOFFSETTO:-0600
RDATE:20151101T020000
RDATE:20161106T020000
END:STANDARD
BEGIN:DAYLIGHT
TZNAME:CDT
DTSTART:20150308T020000
TZOFFSETFROM:-0600
TZOFFSETTO:-0500
RDATE:20160313T020000
END:DAYLIGHT
END:VTIMEZONE
BEGIN:VEVENT
UID:44030dd9-f4c3-4d54-b18c-6a32bdac1da8
DTSTAMP:20260425T174601Z
DESCRIPTION:University of Nebraska - Omaha\, Thompson Alumni Center\, 6705 
 Dodge St\, Omaha\, NE 68182.  (402) 554-3368\n
DTSTART;TZID=America/Chicago:20150605T090000
DTEND;TZID=America/Chicago:20150605T150000
LOCATION:Thompson Alumni Center - UNO
SUMMARY:DD Network Joint Board Meeting
END:VEVENT
END:VCALENDAR
