BEGIN:VCALENDAR
VERSION:2.0
PRODID:-//www.disabilityrightsnebraska.org//NONSGML kigkonsult.se iCalcreat
 or 2.30.10//
CALSCALE:GREGORIAN
METHOD:PUBLISH
UID:b26b94f5-b003-4ad3-b2c1-5fd76ef4091e
X-WR-CALDESC:Governor Pete Ricketts will be signing a proclamation celebrat
 ing the 25th Anniversary of the Americans with Disabilities Act.  Please j
 oin us and sign-up to reserve a place at the signing ceremony.
X-WR-RELCALID:94b32ab2c0a7e3a334c13c79a056d59a
X-WR-TIMEZONE:America/Chicago
BEGIN:VTIMEZONE
TZID:America/Chicago
BEGIN:STANDARD
TZNAME:CST
DTSTART:20141102T020000
TZOFFSETFROM:-0500
TZOFFSETTO:-0600
RDATE:20151101T020000
RDATE:20161106T020000
END:STANDARD
BEGIN:DAYLIGHT
TZNAME:CDT
DTSTART:20150308T020000
TZOFFSETFROM:-0600
TZOFFSETTO:-0500
RDATE:20160313T020000
END:DAYLIGHT
END:VTIMEZONE
BEGIN:VEVENT
UID:2223e42a-e52c-4d02-8bf5-aaea0d503055
DTSTAMP:20260425T162846Z
DESCRIPTION:Governor Pete Ricketts will be signing a proclamation celebrati
 ng the 25th Anniversary of the Americans with Disabilities Act.  Please jo
 in us and sign-up to reserve a place at the signing ceremony.
DTSTART;TZID=America/Chicago:20150708T100000
DTEND;TZID=America/Chicago:20150708T110000
LOCATION:State Capitol Rotunda
SUMMARY:ADA Proclamation Signing
END:VEVENT
END:VCALENDAR
