BEGIN:VCALENDAR
VERSION:2.0
PRODID:-//www.disabilityrightsnebraska.org//NONSGML kigkonsult.se iCalcreat
 or 2.30.10//
CALSCALE:GREGORIAN
METHOD:PUBLISH
UID:79105534-656b-479d-ab25-abff04692ae6
X-WR-CALDESC:The Next 25 Years of the ADA\nA Discussion featuring Senator H
 arkin and Secretary of Labor Thomas Perez\nHosted by the Office of Disabil
 ity Employment Policy and the Civil Rights Center\n\nFollowing the event w
 e ask that you join us for a reception with other champions of the ADA for
  light refreshments. \n\nDiscussion:\nTuesday\, July 21st\, 2015\n10:00am-
 11:00am\n\nReception:\nTuesday\, July 21st\, 2015\n11:00am-12:00pm \n\nU.S
 . Department of Labor\n200 Constitution Ave\nWashington\, DC\n\nPlease joi
 n us for a special event honoring the 25th Anniversary of the American’s w
 ith Disabilities Act. \nLIVE STREAMING AVAILABLE:  http://www.dol.gov/dol/
 media/webcast/live/
X-WR-RELCALID:f59fe5c1039e23e649c92597e6bb905d
X-WR-TIMEZONE:America/Chicago
BEGIN:VTIMEZONE
TZID:America/Chicago
BEGIN:STANDARD
TZNAME:CST
DTSTART:20141102T020000
TZOFFSETFROM:-0500
TZOFFSETTO:-0600
RDATE:20151101T020000
RDATE:20161106T020000
END:STANDARD
BEGIN:DAYLIGHT
TZNAME:CDT
DTSTART:20150308T020000
TZOFFSETFROM:-0600
TZOFFSETTO:-0500
RDATE:20160313T020000
END:DAYLIGHT
END:VTIMEZONE
BEGIN:VEVENT
UID:7360effa-d770-4135-952b-5d966629b6ab
DTSTAMP:20260425T161639Z
DESCRIPTION:The Next 25 Years of the ADA\nA Discussion featuring Senator Ha
 rkin and Secretary of Labor Thomas Perez\nHosted by the Office of Disabili
 ty Employment Policy and the Civil Rights Center\n\nFollowing the event we
  ask that you join us for a reception with other champions of the ADA for 
 light refreshments. \n\nDiscussion:\nTuesday\, July 21st\, 2015\n10:00am-1
 1:00am\n\nReception:\nTuesday\, July 21st\, 2015\n11:00am-12:00pm \n\nU.S.
  Department of Labor\n200 Constitution Ave\nWashington\, DC\n\nPlease join
  us for a special event honoring the 25th Anniversary of the American’s wi
 th Disabilities Act. \nLIVE STREAMING AVAILABLE:  http://www.dol.gov/dol/m
 edia/webcast/live/
DTSTART;TZID=America/Chicago:20150721T090000
DTEND;TZID=America/Chicago:20150721T100000
LOCATION:Live Streaming
SUMMARY:The Next 25 Years of the ADA
END:VEVENT
END:VCALENDAR
