BEGIN:VCALENDAR
VERSION:2.0
PRODID:-//www.disabilityrightsnebraska.org//NONSGML kigkonsult.se iCalcreat
 or 2.30.10//
CALSCALE:GREGORIAN
METHOD:PUBLISH
UID:0f582fe7-3d0e-45cd-9a31-b72ad0fe0dc0
X-WR-CALDESC:Please join us for a celebration of the 25th Anniversary of th
 e Americans with Disabilities Act.  We will be celebrating with food\, bev
 erages\, speakers and cake!  The festivities begin at 10 AM and go until 2
  PM.  \n\n11:00 AM - Panel of disability rights advocates\n11:35 AM - Dr. 
 Steve Joel\, Superintendent of Lincoln Public Schools\n12:15 PM - Lt. Gove
 rnor Mike Foley\n\nArt show and beverages on the 5th floor of the Lincoln 
 Community Foundation building throughout the event.\n\nThe Lincoln Communi
 ty Foundation Gardens are located at 12th and N Streets\, in Lincoln.\n\nA
 SL sign language interpreters will be present and able to assist with conv
 ersations throughout the event.\n\nIn case of rain\, the event will be in 
 the 5th floor conference room of the Lincoln Community Foundation building
 .
X-WR-RELCALID:6112e98b145944ceb83bf7edbe22ebba
X-WR-TIMEZONE:America/Chicago
BEGIN:VTIMEZONE
TZID:America/Chicago
BEGIN:STANDARD
TZNAME:CST
DTSTART:20141102T020000
TZOFFSETFROM:-0500
TZOFFSETTO:-0600
RDATE:20151101T020000
RDATE:20161106T020000
END:STANDARD
BEGIN:DAYLIGHT
TZNAME:CDT
DTSTART:20150308T020000
TZOFFSETFROM:-0600
TZOFFSETTO:-0500
RDATE:20160313T020000
END:DAYLIGHT
END:VTIMEZONE
BEGIN:VEVENT
UID:7c2846fc-7c65-443e-9ec0-2419174a63f5
DTSTAMP:20260425T161932Z
DESCRIPTION:Please join us for a celebration of the 25th Anniversary of the
  Americans with Disabilities Act.  We will be celebrating with food\, beve
 rages\, speakers and cake!  The festivities begin at 10 AM and go until 2 
 PM.  \n\n11:00 AM - Panel of disability rights advocates\n11:35 AM - Dr. S
 teve Joel\, Superintendent of Lincoln Public Schools\n12:15 PM - Lt. Gover
 nor Mike Foley\n\nArt show and beverages on the 5th floor of the Lincoln C
 ommunity Foundation building throughout the event.\n\nThe Lincoln Communit
 y Foundation Gardens are located at 12th and N Streets\, in Lincoln.\n\nAS
 L sign language interpreters will be present and able to assist with conve
 rsations throughout the event.\n\nIn case of rain\, the event will be in t
 he 5th floor conference room of the Lincoln Community Foundation building.
DTSTART;TZID=America/Chicago:20150724T100000
DTEND;TZID=America/Chicago:20150724T140000
LOCATION:Lincoln Foundation Gardens - Lincoln\, NE
SUMMARY:ADA 25th Anniversary Celebration
END:VEVENT
END:VCALENDAR
