BEGIN:VCALENDAR
VERSION:2.0
PRODID:-//www.disabilityrightsnebraska.org//NONSGML kigkonsult.se iCalcreat
 or 2.30.10//
CALSCALE:GREGORIAN
METHOD:PUBLISH
UID:b99754df-82bd-434c-b5f9-ad8dfccbf80f
X-WR-CALDESC:ADA 25th Anniversary celebration at Seymour Smith Park\, 6802 
 Harrison.  Mayor Jean Stothert will speak.  \n\nCome to the AllPlay barrie
 r free playground\, splash park and ball fields.  Refreshments provided by
  Target and the Omaha Parks Department.
X-WR-RELCALID:374c188ecdc02c35d1581b2fda9c65cd
X-WR-TIMEZONE:America/Chicago
BEGIN:VTIMEZONE
TZID:America/Chicago
BEGIN:STANDARD
TZNAME:CST
DTSTART:20141102T020000
TZOFFSETFROM:-0500
TZOFFSETTO:-0600
RDATE:20151101T020000
RDATE:20161106T020000
END:STANDARD
BEGIN:DAYLIGHT
TZNAME:CDT
DTSTART:20150308T020000
TZOFFSETFROM:-0600
TZOFFSETTO:-0500
RDATE:20160313T020000
END:DAYLIGHT
END:VTIMEZONE
BEGIN:VEVENT
UID:61d371d2-c378-44d2-930b-d1a7b092dc0c
DTSTAMP:20260425T162445Z
DESCRIPTION:ADA 25th Anniversary celebration at Seymour Smith Park\, 6802 H
 arrison.  Mayor Jean Stothert will speak.  \n\nCome to the AllPlay barrier
  free playground\, splash park and ball fields.  Refreshments provided by 
 Target and the Omaha Parks Department.
DTSTART;TZID=America/Chicago:20150724T130000
DTEND;TZID=America/Chicago:20150724T150000
LOCATION:Omaha - Seymour Smith Park
SUMMARY:Omaha - ADA Celebration
END:VEVENT
END:VCALENDAR
