BEGIN:VCALENDAR
VERSION:2.0
PRODID:-//www.disabilityrightsnebraska.org//NONSGML kigkonsult.se iCalcreat
 or 2.30.10//
CALSCALE:GREGORIAN
METHOD:PUBLISH
UID:c4e36d55-00d9-47a0-8908-3f887112eb80
X-WR-CALDESC:Quarterly meeting of the Board of Directors
X-WR-RELCALID:7df9cf41048dfacd58f63c3d48477865
X-WR-TIMEZONE:America/Chicago
BEGIN:VTIMEZONE
TZID:America/Chicago
BEGIN:STANDARD
TZNAME:CST
DTSTART:20141102T020000
TZOFFSETFROM:-0500
TZOFFSETTO:-0600
RDATE:20151101T020000
RDATE:20161106T020000
END:STANDARD
BEGIN:DAYLIGHT
TZNAME:CDT
DTSTART:20150308T020000
TZOFFSETFROM:-0600
TZOFFSETTO:-0500
RDATE:20160313T020000
END:DAYLIGHT
END:VTIMEZONE
BEGIN:VEVENT
UID:18294f1f-7f3e-4fce-a4cd-44f9d743a9ec
DTSTAMP:20260425T145257Z
DESCRIPTION:Quarterly meeting of the Board of Directors
DTSTART;TZID=America/Chicago:20150829T100000
DTEND;TZID=America/Chicago:20150829T140000
LOCATION:Boardroom - 5th Floor\, Federal Trust Building\, Lincoln
SUMMARY:BOARD MEETING
END:VEVENT
END:VCALENDAR
