BEGIN:VCALENDAR
VERSION:2.0
PRODID:-//www.disabilityrightsnebraska.org//NONSGML kigkonsult.se iCalcreat
 or 2.30.10//
CALSCALE:GREGORIAN
METHOD:PUBLISH
UID:547ef985-39f3-40bd-998f-d3698c327f6d
X-WR-CALDESC:This year\, we're going west!  The Disability Rights Nebraska 
 Board of Directors is taking its annual Public Meeting on the road\, to Ke
 arney\, Nebraska in order to hear from people in the central part of the s
 tate.  Participants will have an opportunity to comment on the proposed pl
 an for the upcoming year.  The Board will also be listening to gain an und
 erstanding of what people with disabilities in out-state Nebraska are expe
 riencing.  American Sign Language interpreters  will be available.  For ma
 terials in large print or electronic versions\, please call by June 3\, 20
 16.  \n\nThe Public Comment portion of the meeting will run from approxima
 tely 11:00 a.m. to 11:30 a.m. Depending on the number of people from the p
 ublic who would like to comment\, participants may be limited to three min
 utes per person. We would also like to know:  1)	your name\, 2) where you a
 re from\, and\, 3)if representing an organization\, please state the name 
 of the organization you are representing.  You are also welcome to leave c
 opies of any written comments with Board Secretary Julie Stahla\, or Recor
 ding Secretary Sharon Ohmberger. \n\n
X-WR-RELCALID:49e996503536e789aa78a24a1a6b572f
X-WR-TIMEZONE:America/Chicago
BEGIN:VTIMEZONE
TZID:America/Chicago
BEGIN:STANDARD
TZNAME:CST
DTSTART:20151101T020000
TZOFFSETFROM:-0500
TZOFFSETTO:-0600
RDATE:20161106T020000
RDATE:20171105T020000
END:STANDARD
BEGIN:DAYLIGHT
TZNAME:CDT
DTSTART:20160313T020000
TZOFFSETFROM:-0600
TZOFFSETTO:-0500
RDATE:20170312T020000
END:DAYLIGHT
END:VTIMEZONE
BEGIN:VEVENT
UID:5765a2c9-f3f1-49ab-9667-1982976a5d36
DTSTAMP:20260424T232106Z
DESCRIPTION:This year\, we're going west!  The Disability Rights Nebraska B
 oard of Directors is taking its annual Public Meeting on the road\, to Kea
 rney\, Nebraska in order to hear from people in the central part of the st
 ate.  Participants will have an opportunity to comment on the proposed pla
 n for the upcoming year.  The Board will also be listening to gain an unde
 rstanding of what people with disabilities in out-state Nebraska are exper
 iencing.  American Sign Language interpreters  will be available.  For mat
 erials in large print or electronic versions\, please call by June 3\, 201
 6.  \n\nThe Public Comment portion of the meeting will run from approximat
 ely 11:00 a.m. to 11:30 a.m. Depending on the number of people from the pu
 blic who would like to comment\, participants may be limited to three minu
 tes per person. We would also like to know:  1)	your name\, 2) where you ar
 e from\, and\, 3)if representing an organization\, please state the name o
 f the organization you are representing.  You are also welcome to leave co
 pies of any written comments with Board Secretary Julie Stahla\, or Record
 ing Secretary Sharon Ohmberger. \n\n
DTSTART;TZID=America/Chicago:20160611T100000
DTEND;TZID=America/Chicago:20160611T140000
LOCATION:The Archway\, Kearney\, NE
SUMMARY:Annual Public Meeting of the Board of Directors
END:VEVENT
END:VCALENDAR
