BEGIN:VCALENDAR
VERSION:2.0
PRODID:-//www.disabilityrightsnebraska.org//NONSGML kigkonsult.se iCalcreat
 or 2.30.10//
CALSCALE:GREGORIAN
METHOD:PUBLISH
UID:519a8c44-e4c7-4ae6-ba2c-d08d39ad8e6d
X-WR-CALDESC:‘It’s All About the Plan!’ allows students to learn about and 
 practice self-advocacy. It includes hands-on activities\, community speake
 rs\, and e-learning tools. It is developed through partnership of Disabili
 ty Rights Nebraska\, Arc of Lincoln\, Autism Family Network\, and Fritz & 
 O’Hare Associates.\n\nThe course will be completed in five days with 2.5 h
 our daily sessions at Southeast Community College. Students with disabilit
 ies\, ages 14 to 21 are invited to the course. Parents of students attendi
 ng ‘It’s All About the Plan!’ are invited to a self-advocacy session on Ju
 ly 6th. Attendance is not mandatory.\n\nSelf-advocacy skills help people s
 peak up for what they need and want in life. It is especially important fo
 r students with disabilities to learn how they can make their voices heard
 !\n\nThe course will be free of charge. Stipends will be available\, upon 
 request\, to help with transportation costs.
X-WR-RELCALID:ce097978c56a08ba8edd39c979908175
X-WR-TIMEZONE:America/Chicago
BEGIN:VTIMEZONE
TZID:America/Chicago
BEGIN:STANDARD
TZNAME:CST
DTSTART:20151101T020000
TZOFFSETFROM:-0500
TZOFFSETTO:-0600
RDATE:20161106T020000
RDATE:20171105T020000
END:STANDARD
BEGIN:DAYLIGHT
TZNAME:CDT
DTSTART:20160313T020000
TZOFFSETFROM:-0600
TZOFFSETTO:-0500
RDATE:20170312T020000
END:DAYLIGHT
END:VTIMEZONE
BEGIN:VEVENT
UID:58e6c8d0-0443-45ca-a063-aed5877d4828
DTSTAMP:20260424T215217Z
DESCRIPTION:‘It’s All About the Plan!’ allows students to learn about and p
 ractice self-advocacy. It includes hands-on activities\, community speaker
 s\, and e-learning tools. It is developed through partnership of Disabilit
 y Rights Nebraska\, Arc of Lincoln\, Autism Family Network\, and Fritz & O
 ’Hare Associates.\n\nThe course will be completed in five days with 2.5 ho
 ur daily sessions at Southeast Community College. Students with disabiliti
 es\, ages 14 to 21 are invited to the course. Parents of students attendin
 g ‘It’s All About the Plan!’ are invited to a self-advocacy session on Jul
 y 6th. Attendance is not mandatory.\n\nSelf-advocacy skills help people sp
 eak up for what they need and want in life. It is especially important for
  students with disabilities to learn how they can make their voices heard!
 \n\nThe course will be free of charge. Stipends will be available\, upon r
 equest\, to help with transportation costs.
DTSTART;TZID=America/Chicago:20160711T090000
DTEND;TZID=America/Chicago:20160715T113000
LOCATION:The Career Academy\, Southeast Community College\, 8800 O Street\,
  Lincoln NE
SUMMARY:‘It’s All About the Plan!’ Summer Self-advocacy Course
END:VEVENT
END:VCALENDAR
