BEGIN:VCALENDAR
VERSION:2.0
PRODID:-//www.disabilityrightsnebraska.org//NONSGML kigkonsult.se iCalcreat
 or 2.30.10//
CALSCALE:GREGORIAN
METHOD:PUBLISH
UID:f45e857e-3ba2-4f6d-a85f-72957fa13fb8
X-WR-CALDESC:Who Are Invited: \nService Providers\, Advocates\, Direct Supp
 ort Professionals\, Service Coordinators\, Vocational Rehabilitation Staff
  Members\, Transition Coordinators\, and Anyone Interested in Community In
 clusion!\n\nFeaturing:\nAl Conduluci: Expert in Social Inclusion\nGriffin 
 Hammis: Trainers in Community Based Employment\nClaire Benway: Trainer wit
 h the Center for Community Inclusion\nFree viewing of the Documentary “Aut
 ism in Love”\nAnd More!\n\nThree exciting tracks:\nEmployment Track: Job C
 oaches\, Vocational Setting Staff Members and Supervisors\, Vocational Reh
 abilitation and Department of Education Staff Members\nAdministrator Track
 : Administrative Leaders\, Trainers\, Human Resources Professionals\, Advo
 cates\nStaff Track: Direct Support Professionals\, Service Coordinators\, 
 Others\n\n<b>There are many ways to get involved with and get ready for th
 e first ever NASP conference! Dive in below! </b>\n\n<b><a href='http://go
 o.gl/forms/z6peJn6yvhs0RyEe2' target='_blank'>Nominate</a></b> someone spe
 cial for our 'Hero' and 'Best Practice' awards.\n\n<b><a href='http://nese
 rviceproviders.org/wp-content/uploads/2013/10/Full-Conference-Guide-1.pdf 
 ' target='_blank'>Check out</a></b> our detailed conference guide to learn
  about our speakers and workshops.\n\n<b><a href='https://www.eventbrite.c
 om/e/nebraska-association-of-service-providers-first-annual-conference-tic
 kets-23845152493?aff=es2' target='_blank'>Register</a></b> and book your h
 otel for our fabulous conference event.\n\n<b><a href='http://www.imdb.com
 /title/tt3719452/' target='_blank'>Watch</a></b> the trailer for our featu
 red 'movie night' film 'Autism in Love'.\n\n<b>Tell a friend!</b> Share th
 is page to your friends\, colleagues and contacts today!
X-WR-RELCALID:a799c623fff9c187104c695e41a2ddb7
X-WR-TIMEZONE:America/Chicago
BEGIN:VTIMEZONE
TZID:America/Chicago
BEGIN:STANDARD
TZNAME:CST
DTSTART:20151101T020000
TZOFFSETFROM:-0500
TZOFFSETTO:-0600
RDATE:20161106T020000
RDATE:20171105T020000
END:STANDARD
BEGIN:DAYLIGHT
TZNAME:CDT
DTSTART:20160313T020000
TZOFFSETFROM:-0600
TZOFFSETTO:-0500
RDATE:20170312T020000
RDATE:20180311T020000
END:DAYLIGHT
END:VTIMEZONE
BEGIN:VEVENT
UID:a020d6ac-9f19-4f87-9b6c-3dcac0c53eec
DTSTAMP:20260424T190520Z
DESCRIPTION:Who Are Invited: \nService Providers\, Advocates\, Direct Suppo
 rt Professionals\, Service Coordinators\, Vocational Rehabilitation Staff 
 Members\, Transition Coordinators\, and Anyone Interested in Community Inc
 lusion!\n\nFeaturing:\nAl Conduluci: Expert in Social Inclusion\nGriffin H
 ammis: Trainers in Community Based Employment\nClaire Benway: Trainer with
  the Center for Community Inclusion\nFree viewing of the Documentary “Auti
 sm in Love”\nAnd More!\n\nThree exciting tracks:\nEmployment Track: Job Co
 aches\, Vocational Setting Staff Members and Supervisors\, Vocational Reha
 bilitation and Department of Education Staff Members\nAdministrator Track:
  Administrative Leaders\, Trainers\, Human Resources Professionals\, Advoc
 ates\nStaff Track: Direct Support Professionals\, Service Coordinators\, O
 thers\n\n<b>There are many ways to get involved with and get ready for the
  first ever NASP conference! Dive in below! </b>\n\n<b><a href='http://goo
 .gl/forms/z6peJn6yvhs0RyEe2' target='_blank'>Nominate</a></b> someone spec
 ial for our 'Hero' and 'Best Practice' awards.\n\n<b><a href='http://neser
 viceproviders.org/wp-content/uploads/2013/10/Full-Conference-Guide-1.pdf '
  target='_blank'>Check out</a></b> our detailed conference guide to learn 
 about our speakers and workshops.\n\n<b><a href='https://www.eventbrite.co
 m/e/nebraska-association-of-service-providers-first-annual-conference-tick
 ets-23845152493?aff=es2' target='_blank'>Register</a></b> and book your ho
 tel for our fabulous conference event.\n\n<b><a href='http://www.imdb.com/
 title/tt3719452/' target='_blank'>Watch</a></b> the trailer for our featur
 ed 'movie night' film 'Autism in Love'.\n\n<b>Tell a friend!</b> Share thi
 s page to your friends\, colleagues and contacts today!
DTSTART;TZID=America/Chicago:20160919T000000
DTEND;TZID=America/Chicago:20160920T235900
LOCATION:Younes Conference Center\, Kearney\, NE
SUMMARY:The First Annual Nebraska Association of Service Providers Conferen
 ce
END:VEVENT
END:VCALENDAR
