BEGIN:VCALENDAR
VERSION:2.0
PRODID:-//www.disabilityrightsnebraska.org//NONSGML kigkonsult.se iCalcreat
 or 2.30.10//
CALSCALE:GREGORIAN
METHOD:PUBLISH
UID:156f1b53-979a-47dc-87e8-7e84aac96be8
X-WR-CALDESC:The Lakota Center is hosting a Wastunkala tasting to benefit D
 isability Rights Nebraska! Wastunkala is a Native American soup made from 
 dried corn.  Variations will be available for tasting for a free will dona
 tion.  Join us on the 13th for a cross-cultural experience!
X-WR-RELCALID:eb1a000fa52ad3b79cf1ab67005e2f0f
X-WR-TIMEZONE:America/Chicago
BEGIN:VTIMEZONE
TZID:America/Chicago
BEGIN:STANDARD
TZNAME:CST
DTSTART:20151101T020000
TZOFFSETFROM:-0500
TZOFFSETTO:-0600
RDATE:20161106T020000
RDATE:20171105T020000
END:STANDARD
BEGIN:DAYLIGHT
TZNAME:CDT
DTSTART:20160313T020000
TZOFFSETFROM:-0600
TZOFFSETTO:-0500
RDATE:20170312T020000
RDATE:20180311T020000
END:DAYLIGHT
END:VTIMEZONE
BEGIN:VEVENT
UID:2e676359-9c0e-42d8-ae6b-b00f9f2f66ae
DTSTAMP:20260424T173118Z
DESCRIPTION:The Lakota Center is hosting a Wastunkala tasting to benefit Di
 sability Rights Nebraska! Wastunkala is a Native American soup made from d
 ried corn.  Variations will be available for tasting for a free will donat
 ion.  Join us on the 13th for a cross-cultural experience!
DTSTART;TZID=America/Chicago:20161013T120000
DTEND;TZID=America/Chicago:20161013T133000
LOCATION:Lakota Lutheran Center\, Scottsbluff\, NE
SUMMARY:Wastunkala Tasting Fundraiser
END:VEVENT
END:VCALENDAR
