BEGIN:VCALENDAR
VERSION:2.0
PRODID:-//www.disabilityrightsnebraska.org//NONSGML kigkonsult.se iCalcreat
 or 2.30.10//
CALSCALE:GREGORIAN
METHOD:PUBLISH
UID:277a9d13-59f0-44c4-96f3-09d963846ac3
X-WR-CALDESC:Learn how to build an inclusive workforce. Explore resources t
 o build an inclusive workforce through this important networking opportuni
 ty.  The NDEAM Forum will feature information booths and five short presen
 tations.  To end the hour\, the panel presenters will answer questions fro
 m the audience.
X-WR-RELCALID:fe100a3d07b6dfdd1683d1394c38bf04
X-WR-TIMEZONE:America/Chicago
BEGIN:VTIMEZONE
TZID:America/Chicago
BEGIN:STANDARD
TZNAME:CST
DTSTART:20151101T020000
TZOFFSETFROM:-0500
TZOFFSETTO:-0600
RDATE:20161106T020000
RDATE:20171105T020000
END:STANDARD
BEGIN:DAYLIGHT
TZNAME:CDT
DTSTART:20160313T020000
TZOFFSETFROM:-0600
TZOFFSETTO:-0500
RDATE:20170312T020000
RDATE:20180311T020000
END:DAYLIGHT
END:VTIMEZONE
BEGIN:VEVENT
UID:91df91ba-346e-4e73-99e3-87588a7425f7
DTSTAMP:20260424T172646Z
DESCRIPTION:Learn how to build an inclusive workforce. Explore resources to
  build an inclusive workforce through this important networking opportunit
 y.  The NDEAM Forum will feature information booths and five short present
 ations.  To end the hour\, the panel presenters will answer questions from
  the audience.
DTSTART;TZID=America/Chicago:20161018T073000
DTEND;TZID=America/Chicago:20161018T090000
LOCATION:Nebraska VR O - 3901 No. 27th St.\, Ste 6
SUMMARY:2016 NATIONAL DISABILITY EMPLOYMENT AWARENESS MONTH FORUM
END:VEVENT
END:VCALENDAR
