BEGIN:VCALENDAR
VERSION:2.0
PRODID:-//www.disabilityrightsnebraska.org//NONSGML kigkonsult.se iCalcreat
 or 2.30.10//
CALSCALE:GREGORIAN
METHOD:PUBLISH
UID:75eb889e-04fb-4159-9a96-9af435f8bd16
X-WR-CALDESC:Mobilize Omaha is an event hosted by 1% Productions that merge
 s philanthropy and music.  Disability Rights Nebraska is hosting a table a
 t this Stop by this public event to learn how to get involved with local n
 on-profits and enjoy some great bands. $5 donation suggested at the door. 
 Participating non-profits will split all proceeds and donations evenly.
X-WR-RELCALID:020abfae1b8bb4ede0352ab2e5c02038
X-WR-TIMEZONE:America/Chicago
BEGIN:VTIMEZONE
TZID:America/Chicago
BEGIN:STANDARD
TZNAME:CST
DTSTART:20161106T020000
TZOFFSETFROM:-0500
TZOFFSETTO:-0600
RDATE:20171105T020000
END:STANDARD
BEGIN:DAYLIGHT
TZNAME:CDT
DTSTART:20160313T020000
TZOFFSETFROM:-0600
TZOFFSETTO:-0500
RDATE:20170312T020000
RDATE:20180311T020000
END:DAYLIGHT
END:VTIMEZONE
BEGIN:VEVENT
UID:86ce0868-e7ad-491d-b9da-a7a049517f8b
DTSTAMP:20260424T143203Z
DESCRIPTION:Mobilize Omaha is an event hosted by 1% Productions that merges
  philanthropy and music.  Disability Rights Nebraska is hosting a table at
  this Stop by this public event to learn how to get involved with local no
 n-profits and enjoy some great bands. $5 donation suggested at the door. P
 articipating non-profits will split all proceeds and donations evenly.
DTSTART;TZID=America/Chicago:20161209T170000
DTEND;TZID=America/Chicago:20161210T000000
LOCATION:The Waiting Room Lounge
SUMMARY:Mobilize Omaha
END:VEVENT
END:VCALENDAR
