BEGIN:VCALENDAR
VERSION:2.0
PRODID:-//www.disabilityrightsnebraska.org//NONSGML kigkonsult.se iCalcreat
 or 2.30.10//
CALSCALE:GREGORIAN
METHOD:PUBLISH
UID:8017b1fd-36c7-4409-9366-49d9ac9f2284
X-WR-CALDESC:The Autism Society of Nebraska has organized an opportunity fo
 r all people with disabilities\, their families\, and advocates to meet th
 eir state senators.  This is an opportunity to get to know your senator an
 d let them know how the laws and policies they advocate for or against aff
 ect you!
X-WR-RELCALID:032792bec96daec80469e240748bd7d6
X-WR-TIMEZONE:America/Chicago
BEGIN:VTIMEZONE
TZID:America/Chicago
BEGIN:STANDARD
TZNAME:CST
DTSTART:20161106T020000
TZOFFSETFROM:-0500
TZOFFSETTO:-0600
RDATE:20171105T020000
END:STANDARD
BEGIN:DAYLIGHT
TZNAME:CDT
DTSTART:20170312T020000
TZOFFSETFROM:-0600
TZOFFSETTO:-0500
RDATE:20180311T020000
END:DAYLIGHT
END:VTIMEZONE
BEGIN:VEVENT
UID:7334374e-d8e3-430c-b843-8cb436ee8ab8
DTSTAMP:20260422T152335Z
DESCRIPTION:The Autism Society of Nebraska has organized an opportunity for
  all people with disabilities\, their families\, and advocates to meet the
 ir state senators.  This is an opportunity to get to know your senator and
  let them know how the laws and policies they advocate for or against affe
 ct you!
DTSTART;TZID=America/Chicago:20170411T081500
DTEND;TZID=America/Chicago:20170411T094500
LOCATION:Room 1023\, State Capitol Building
SUMMARY:Meet & Greet with State Senators sponsored by the Autism Society
END:VEVENT
END:VCALENDAR
