BEGIN:VCALENDAR
VERSION:2.0
PRODID:-//www.disabilityrightsnebraska.org//NONSGML kigkonsult.se iCalcreat
 or 2.30.10//
CALSCALE:GREGORIAN
METHOD:PUBLISH
UID:2bc083ba-2693-47b8-8145-9b7b63c14f09
X-WR-CALDESC:Description:  Leaders of Peer-run Respites from around the cou
 ntry will provide an overview of Peer-run Respites and how they voluntaril
 y engage people and offer a continuity of care which is often unavailable 
 with traditional care and hospitalization. Success stories will be shared\
 , along with reports from the latest research on Peer-run Respite effectiv
 eness.\n Presenters\n•	Steve Miccio – Executive Director\, Projects to Empo
 wer and Organize the Psychiatrically Labeled\, Inc. (PEOPLe\, Inc.) \n•	Bev
 in Croft\, M.A.\, M.P.P.\, Human Services Research Institute \n•	Laysha Ost
 row\, Ph.D.\, M.P.P. – Live & Learn\, Inc.\n•	Daniel B. Fisher\, MD\, Ph.D.
  – Chief Executive Officer\, National Empowerment Center\, Inc. \n•	Jayme L
 ynch – Director of First Peer Support and Wellness Center in Decatur\, GA
 \nn	Camille Dennis – Program Coordinator\, SHARE! (the Self-Help and Recove
 ry Exchange)\n•	Val Neff\, CPS - Certified Peer Specialist and works with N
 AMI Fox Valley as the House Manager at Iris Place Peer Run Respite \n•	Rosl
 ind Hayes – Statewide Coordinator of the Peer Support\, Wellness and Respi
 te Centers (PSWRC)\n\nWhen in the 'seminar room' online\, the Adobe Connec
 t Log-in screen appears\, select 'Enter as a Guest\,' enter the name and s
 tate of the participant in the 'Name' field (Ex. Jane Doe-AK) and click on
  'Enter Room.'  For attendees\, this is a “listen only” webinar.  Should t
 hey need to dial in\, the instructions are on the note pad in the seminar 
 room.
X-WR-RELCALID:b896892e2efdb6cbf34a5a7a5101591a
X-WR-TIMEZONE:America/Chicago
BEGIN:VTIMEZONE
TZID:America/Chicago
BEGIN:STANDARD
TZNAME:CST
DTSTART:20161106T020000
TZOFFSETFROM:-0500
TZOFFSETTO:-0600
RDATE:20171105T020000
END:STANDARD
BEGIN:DAYLIGHT
TZNAME:CDT
DTSTART:20170312T020000
TZOFFSETFROM:-0600
TZOFFSETTO:-0500
RDATE:20180311T020000
END:DAYLIGHT
END:VTIMEZONE
BEGIN:VEVENT
UID:38e8bf77-94bd-4386-8bfb-eb017cde409a
DTSTAMP:20260422T152900Z
DESCRIPTION:Description:  Leaders of Peer-run Respites from around the coun
 try will provide an overview of Peer-run Respites and how they voluntarily
  engage people and offer a continuity of care which is often unavailable w
 ith traditional care and hospitalization. Success stories will be shared\,
  along with reports from the latest research on Peer-run Respite effective
 ness.\n Presenters\n•	Steve Miccio – Executive Director\, Projects to Empow
 er and Organize the Psychiatrically Labeled\, Inc. (PEOPLe\, Inc.) \n•	Bevi
 n Croft\, M.A.\, M.P.P.\, Human Services Research Institute \n•	Laysha Ostr
 ow\, Ph.D.\, M.P.P. – Live & Learn\, Inc.\n•	Daniel B. Fisher\, MD\, Ph.D. 
 – Chief Executive Officer\, National Empowerment Center\, Inc. \n•	Jayme Ly
 nch – Director of First Peer Support and Wellness Center in Decatur\, GA\n
 •	Camille Dennis – Program Coordinator\, SHARE! (the Self-Help and Recovery
  Exchange)\n•	Val Neff\, CPS - Certified Peer Specialist and works with NAM
 I Fox Valley as the House Manager at Iris Place Peer Run Respite \n•	Roslin
 d Hayes – Statewide Coordinator of the Peer Support\, Wellness and Respite
  Centers (PSWRC)\n\nWhen in the 'seminar room' online\, the Adobe Connect 
 Log-in screen appears\, select 'Enter as a Guest\,' enter the name and sta
 te of the participant in the 'Name' field (Ex. Jane Doe-AK) and click on '
 Enter Room.'  For attendees\, this is a “listen only” webinar.  Should the
 y need to dial in\, the instructions are on the note pad in the seminar ro
 om.
DTSTART;TZID=America/Chicago:20170426T130000
DTEND;TZID=America/Chicago:20170426T140000
LOCATION:Webinar
SUMMARY:Webinar:  Peer-Run Respites: Effective Alternatives to Hospitals
END:VEVENT
END:VCALENDAR
