BEGIN:VCALENDAR
VERSION:2.0
PRODID:-//www.disabilityrightsnebraska.org//NONSGML kigkonsult.se iCalcreat
 or 2.30.10//
CALSCALE:GREGORIAN
METHOD:PUBLISH
UID:5a4d4a77-8237-4b87-b6d0-0015ade017d9
X-WR-CALDESC:You're invited to attend OpenSky Policy Institute's upcoming b
 udget briefings in Omaha and Lincoln. The events will focus on Nebraska’s 
 two-year\, $8.9 billion budget bill and what it means for Nebraskans.\n \n
 Our Omaha briefing will feature a budget discussion with OpenSky staff mem
 bers and the Lincoln briefing will feature a budget discussion with Approp
 riations Committee Chair Sen. John Stinner.\n\nPlease RSVP for either or b
 oth events at the link\, below.
X-WR-RELCALID:06ef36124859e4f83b2a48fd5b826839
X-WR-TIMEZONE:America/Chicago
BEGIN:VTIMEZONE
TZID:America/Chicago
BEGIN:STANDARD
TZNAME:CST
DTSTART:20161106T020000
TZOFFSETFROM:-0500
TZOFFSETTO:-0600
RDATE:20171105T020000
END:STANDARD
BEGIN:DAYLIGHT
TZNAME:CDT
DTSTART:20170312T020000
TZOFFSETFROM:-0600
TZOFFSETTO:-0500
RDATE:20180311T020000
END:DAYLIGHT
END:VTIMEZONE
BEGIN:VEVENT
UID:b9e42121-e13f-46f4-a092-6096b9bb9a4f
DTSTAMP:20260422T153449Z
DESCRIPTION:You're invited to attend OpenSky Policy Institute's upcoming bu
 dget briefings in Omaha and Lincoln. The events will focus on Nebraska’s t
 wo-year\, $8.9 billion budget bill and what it means for Nebraskans.\n \nO
 ur Omaha briefing will feature a budget discussion with OpenSky staff memb
 ers and the Lincoln briefing will feature a budget discussion with Appropr
 iations Committee Chair Sen. John Stinner.\n\nPlease RSVP for either or bo
 th events at the link\, below.
DTSTART;TZID=America/Chicago:20170427T080000
DTEND;TZID=America/Chicago:20170427T090000
LOCATION:Blue Cross Blue Shield of Nebraska Lincoln Office
SUMMARY:OpenSky budget briefings - Please RSVP
END:VEVENT
END:VCALENDAR
