BEGIN:VCALENDAR
VERSION:2.0
PRODID:-//www.disabilityrightsnebraska.org//NONSGML kigkonsult.se iCalcreat
 or 2.30.10//
CALSCALE:GREGORIAN
METHOD:PUBLISH
UID:f8084c05-f027-4c20-9e63-d47d18384426
X-WR-CALDESC:The LEAD Center\, in collaboration with the ABLE National Reso
 urce Center (link is external)\, will be holding a webinar focused on how 
 individuals with disabilities\, and their families\, can use ABLE Accounts
  to increase their financial stability and produce more positive employmen
 t outcomes. The webinar will take place on April 27th at 3:00-4:30 pm EST 
 and aims to demonstrate how provisions in the ABLE Act can enable people w
 ith disabilities to achieve competitive integrated employment\, begin to s
 ave more than $2\,000 without fear of loss of SSI and Medicaid eligibility
  and set longer term goals for financial stability and self-determined and
  self-directed lives. The presentation will review the basic elements of t
 hese new ABLE account programs\, now open in 18 states\, and will include 
 the perspective of a current ABLE account owner.\n\nFor some basic informa
 tion about ABLE accounts\, we encourage you to watch the video and/or read
  the summary of 10 Things You Should Know about ABLE Accounts at http://ww
 w.ablenrc.org/about/what-are-able-accounts \, prior to the webinar. (You m
 ay need to copy and paste this address into your browser bar to view the 1
 0 Things You Should Know site.)\n\nWe look forward to you joining us!
X-WR-RELCALID:222333e6a19eae9a784a10a710456623
X-WR-TIMEZONE:America/Chicago
BEGIN:VTIMEZONE
TZID:America/Chicago
BEGIN:STANDARD
TZNAME:CST
DTSTART:20161106T020000
TZOFFSETFROM:-0500
TZOFFSETTO:-0600
RDATE:20171105T020000
END:STANDARD
BEGIN:DAYLIGHT
TZNAME:CDT
DTSTART:20170312T020000
TZOFFSETFROM:-0600
TZOFFSETTO:-0500
RDATE:20180311T020000
END:DAYLIGHT
END:VTIMEZONE
BEGIN:VEVENT
UID:a21df1bf-ba53-42fa-939c-cc8de527eb29
DTSTAMP:20260422T152341Z
DESCRIPTION:The LEAD Center\, in collaboration with the ABLE National Resou
 rce Center (link is external)\, will be holding a webinar focused on how i
 ndividuals with disabilities\, and their families\, can use ABLE Accounts 
 to increase their financial stability and produce more positive employment
  outcomes. The webinar will take place on April 27th at 3:00-4:30 pm EST a
 nd aims to demonstrate how provisions in the ABLE Act can enable people wi
 th disabilities to achieve competitive integrated employment\, begin to sa
 ve more than $2\,000 without fear of loss of SSI and Medicaid eligibility 
 and set longer term goals for financial stability and self-determined and 
 self-directed lives. The presentation will review the basic elements of th
 ese new ABLE account programs\, now open in 18 states\, and will include t
 he perspective of a current ABLE account owner.\n\nFor some basic informat
 ion about ABLE accounts\, we encourage you to watch the video and/or read 
 the summary of 10 Things You Should Know about ABLE Accounts at http://www
 .ablenrc.org/about/what-are-able-accounts \, prior to the webinar. (You ma
 y need to copy and paste this address into your browser bar to view the 10
  Things You Should Know site.)\n\nWe look forward to you joining us!
DTSTART;TZID=America/Chicago:20170427T140000
DTEND;TZID=America/Chicago:20170427T150000
LOCATION:Webinar
SUMMARY:Webinar: The ABLE Act: A Tool for Financial Stability and Employmen
 t Outcomes
END:VEVENT
END:VCALENDAR
