BEGIN:VCALENDAR
VERSION:2.0
PRODID:-//www.disabilityrightsnebraska.org//NONSGML kigkonsult.se iCalcreat
 or 2.30.10//
CALSCALE:GREGORIAN
METHOD:PUBLISH
UID:254298ae-456e-4936-a2ba-c03a02dbdb50
X-WR-CALDESC:Who:\nDisability organizations committed to working with the d
 isability community to advance equal\nrights and disability related public
  policies.\nWhat:\nA facilitated discussion regarding priorities and needs
  of individuals with disabilities and their\nfamilies as it relates to Med
 icaid and Long Term Care Services and Supports (LTSS). Priorities\nidentif
 ied at this meeting will be shared with leaders at the Department of Healt
 h and Human\nServices prior to their negotiations with Managed Medicaid Co
 mpanies.\nWhen:\nMonday\, May 1\, 2017\n9:00am to 4:00pm\n*Lunch is includ
 ed\nWhere:\nLincoln Community Foundation Building\,\n215 Centennial Mall S
 outh\n5th Floor Conference Room\nWE WANT TO HEAR FROM YOU!\nNow is the tim
 e to unite and make our voices heard!\nPlease RSVP to Amanda Vazquez at va
 zquez@greatplainspva.org if you plan to\nattend.\nWe encourage you to atte
 nd the event even if it is only for part of the time.\nPlease indicate in 
 your RSVP if you will not be there for lunch.\nwww.NebraskaCCD.org
X-WR-RELCALID:fc0ef7197dca34f74cd394724212a7bb
X-WR-TIMEZONE:America/Chicago
BEGIN:VTIMEZONE
TZID:America/Chicago
BEGIN:STANDARD
TZNAME:CST
DTSTART:20161106T020000
TZOFFSETFROM:-0500
TZOFFSETTO:-0600
RDATE:20171105T020000
END:STANDARD
BEGIN:DAYLIGHT
TZNAME:CDT
DTSTART:20170312T020000
TZOFFSETFROM:-0600
TZOFFSETTO:-0500
RDATE:20180311T020000
END:DAYLIGHT
END:VTIMEZONE
BEGIN:VEVENT
UID:b8627a77-6869-4277-9932-cb8092b55969
DTSTAMP:20260422T135425Z
DESCRIPTION:Who:\nDisability organizations committed to working with the di
 sability community to advance equal\nrights and disability related public 
 policies.\nWhat:\nA facilitated discussion regarding priorities and needs 
 of individuals with disabilities and their\nfamilies as it relates to Medi
 caid and Long Term Care Services and Supports (LTSS). Priorities\nidentifi
 ed at this meeting will be shared with leaders at the Department of Health
  and Human\nServices prior to their negotiations with Managed Medicaid Com
 panies.\nWhen:\nMonday\, May 1\, 2017\n9:00am to 4:00pm\n*Lunch is include
 d\nWhere:\nLincoln Community Foundation Building\,\n215 Centennial Mall So
 uth\n5th Floor Conference Room\nWE WANT TO HEAR FROM YOU!\nNow is the time
  to unite and make our voices heard!\nPlease RSVP to Amanda Vazquez at vaz
 quez@greatplainspva.org if you plan to\nattend.\nWe encourage you to atten
 d the event even if it is only for part of the time.\nPlease indicate in y
 our RSVP if you will not be there for lunch.\nwww.NebraskaCCD.org
DTSTART;TZID=America/Chicago:20170501T000000
DTEND;TZID=America/Chicago:20170501T235900
LOCATION:215 Centennial Mall South\, 5th Floor Conference Room\, Lincoln\, 
 NE
SUMMARY:NCCD Medicaid Discussion - Please RSVP
END:VEVENT
END:VCALENDAR
