BEGIN:VCALENDAR
VERSION:2.0
PRODID:-//www.disabilityrightsnebraska.org//NONSGML kigkonsult.se iCalcreat
 or 2.30.10//
CALSCALE:GREGORIAN
METHOD:PUBLISH
UID:aa23c3b0-ff72-4569-add9-cc4b704c913b
X-WR-CALDESC:*\nSave the Date!\nFREE TRAINING FEATURING EXPERT SPEAKERS!\nF
 riday\, June 2\, 2017\, 8 a.m. to 4 p.m.\nNET (Nebraska Educational Teleco
 mmunications) Center 1800 N. 33rd Street (located near UNL East Campus) Li
 ncoln\, NE 68503\nFor more information\, contact a member of the NE Planni
 ng Council on Developmental Disabilities staff at dhhs.ddplanningcouncil@n
 ebraska.gov\nContinental Breakfast and Lunch will be provided.\nRegistrati
 on information to come!\nAnnual DD Network Tri-Board Training\n“Guardiansh
 ip\, Self-Determination\, and Supported Decision Making”
X-WR-RELCALID:e0e8ff51413783727c3565dfac3523f4
X-WR-TIMEZONE:America/Chicago
BEGIN:VTIMEZONE
TZID:America/Chicago
BEGIN:STANDARD
TZNAME:CST
DTSTART:20161106T020000
TZOFFSETFROM:-0500
TZOFFSETTO:-0600
RDATE:20171105T020000
RDATE:20181104T020000
END:STANDARD
BEGIN:DAYLIGHT
TZNAME:CDT
DTSTART:20170312T020000
TZOFFSETFROM:-0600
TZOFFSETTO:-0500
RDATE:20180311T020000
END:DAYLIGHT
END:VTIMEZONE
BEGIN:VEVENT
UID:f28687fa-6b59-499d-8769-985237577890
DTSTAMP:20260422T121428Z
DESCRIPTION:*\nSave the Date!\nFREE TRAINING FEATURING EXPERT SPEAKERS!\nFr
 iday\, June 2\, 2017\, 8 a.m. to 4 p.m.\nNET (Nebraska Educational Telecom
 munications) Center 1800 N. 33rd Street (located near UNL East Campus) Lin
 coln\, NE 68503\nFor more information\, contact a member of the NE Plannin
 g Council on Developmental Disabilities staff at dhhs.ddplanningcouncil@ne
 braska.gov\nContinental Breakfast and Lunch will be provided.\nRegistratio
 n information to come!\nAnnual DD Network Tri-Board Training\n“Guardianshi
 p\, Self-Determination\, and Supported Decision Making”
DTSTART;TZID=America/Chicago:20170602T080000
DTEND;TZID=America/Chicago:20170602T160000
LOCATION:NET (Nebraska Educational Telecommunications) Center 1800 N. 33rd 
 Street (located near UNL East Campus) Lincoln\, NE 68503
SUMMARY:Annual DD Network Tri-Board Training “Guardianship\, Self-Determina
 tion\, and Supported Decision Making”
END:VEVENT
END:VCALENDAR
