BEGIN:VCALENDAR
VERSION:2.0
PRODID:-//www.disabilityrightsnebraska.org//NONSGML kigkonsult.se iCalcreat
 or 2.30.10//
CALSCALE:GREGORIAN
METHOD:PUBLISH
UID:4708804c-0a50-4c43-9d96-1ef2da6e9295
X-WR-CALDESC:We Want to Hear from You! \nIf you are interested in: \nEnsuri
 ng that people with disabilities are free from abuse and neglect\nExpandin
 g opportunities for people  with disabilities to live\, learn and work in 
 the most inclusive settings\nEngaging people with disabilities in advocacy
 \nOr any other issues that affect people with disabilities\, \nJoin Us on 
 June 10th!\n\nAmerican Sign Language and Spanish  interpreters  will be av
 ailable.  For materials in Spanish\,  large print or electronic versions\,
  please call by June 5\, 2017.\n
X-WR-RELCALID:5ddeb858130648df5e87d233a613f9eb
X-WR-TIMEZONE:America/Chicago
BEGIN:VTIMEZONE
TZID:America/Chicago
BEGIN:STANDARD
TZNAME:CST
DTSTART:20161106T020000
TZOFFSETFROM:-0500
TZOFFSETTO:-0600
RDATE:20171105T020000
RDATE:20181104T020000
END:STANDARD
BEGIN:DAYLIGHT
TZNAME:CDT
DTSTART:20170312T020000
TZOFFSETFROM:-0600
TZOFFSETTO:-0500
RDATE:20180311T020000
END:DAYLIGHT
END:VTIMEZONE
BEGIN:VEVENT
UID:6bf0a092-817d-4e98-8880-38ac9aa281e2
DTSTAMP:20260422T121557Z
DESCRIPTION:We Want to Hear from You! \nIf you are interested in: \nEnsurin
 g that people with disabilities are free from abuse and neglect\nExpanding
  opportunities for people  with disabilities to live\, learn and work in t
 he most inclusive settings\nEngaging people with disabilities in advocacy
 \nOr any other issues that affect people with disabilities\, \nJoin Us on 
 June 10th!\n\nAmerican Sign Language and Spanish  interpreters  will be av
 ailable.  For materials in Spanish\,  large print or electronic versions\,
  please call by June 5\, 2017.\n
DTSTART;TZID=America/Chicago:20170610T100000
DTEND;TZID=America/Chicago:20170610T140000
LOCATION:Holiday Inn Hotel\, 110 So. 2nd Ave\, Kearney\, NE
SUMMARY:Public Board Meeting - Public Comment Welcome
END:VEVENT
END:VCALENDAR
