BEGIN:VCALENDAR
VERSION:2.0
PRODID:-//www.disabilityrightsnebraska.org//NONSGML kigkonsult.se iCalcreat
 or 2.30.10//
CALSCALE:GREGORIAN
METHOD:PUBLISH
UID:01197f72-a3f9-4894-8bd9-acbde90ec8b4
X-WR-CALDESC:Disability Rights Nebraska Attorney Michael Elsken will be one
  of the featured trainers during this day-long event for attorneys sponsor
 ed by the Nebraska State Bar Association.  Mike and his colleagues will be
  focusing on Special Education and Students with Disabilities\, and the un
 ique challenges they face in schools and the child welfare and juvenile ju
 stice systems.
X-WR-RELCALID:d2af167f0954b0f8aa7f609e1804d677
X-WR-TIMEZONE:America/Chicago
BEGIN:VTIMEZONE
TZID:America/Chicago
BEGIN:STANDARD
TZNAME:CST
DTSTART:20161106T020000
TZOFFSETFROM:-0500
TZOFFSETTO:-0600
RDATE:20171105T020000
RDATE:20181104T020000
END:STANDARD
BEGIN:DAYLIGHT
TZNAME:CDT
DTSTART:20170312T020000
TZOFFSETFROM:-0600
TZOFFSETTO:-0500
RDATE:20180311T020000
END:DAYLIGHT
END:VTIMEZONE
BEGIN:VEVENT
UID:52421012-b98d-4d8f-9bf2-5fc14d3a0687
DTSTAMP:20260422T103816Z
DESCRIPTION:Disability Rights Nebraska Attorney Michael Elsken will be one 
 of the featured trainers during this day-long event for attorneys sponsore
 d by the Nebraska State Bar Association.  Mike and his colleagues will be 
 focusing on Special Education and Students with Disabilities\, and the uni
 que challenges they face in schools and the child welfare and juvenile jus
 tice systems.
DTSTART;TZID=America/Chicago:20170706T093000
DTEND;TZID=America/Chicago:20170706T160000
LOCATION:1875 N 42nd St
SUMMARY:School Attorneys and Juvenile Attorneys Seminar
END:VEVENT
END:VCALENDAR
