BEGIN:VCALENDAR
VERSION:2.0
PRODID:-//www.disabilityrightsnebraska.org//NONSGML kigkonsult.se iCalcreat
 or 2.30.10//
CALSCALE:GREGORIAN
METHOD:PUBLISH
UID:19f10eb8-7582-4356-9335-9904f7b839a6
X-WR-CALDESC:
X-WR-RELCALID:2c6dd888f2a039e90be147968827e3cf
X-WR-TIMEZONE:America/Chicago
BEGIN:VTIMEZONE
TZID:America/Chicago
BEGIN:STANDARD
TZNAME:CST
DTSTART:20161106T020000
TZOFFSETFROM:-0500
TZOFFSETTO:-0600
RDATE:20171105T020000
RDATE:20181104T020000
END:STANDARD
BEGIN:DAYLIGHT
TZNAME:CDT
DTSTART:20170312T020000
TZOFFSETFROM:-0600
TZOFFSETTO:-0500
RDATE:20180311T020000
END:DAYLIGHT
END:VTIMEZONE
BEGIN:VEVENT
UID:f73e7f13-8980-433c-9721-4d2b037a5d0c
DTSTAMP:20260422T103259Z
DESCRIPTION:
DTSTART;TZID=America/Chicago:20170708T130000
DTEND;TZID=America/Chicago:20170708T173000
LOCATION:211 N. 14th St.\, Lincoln\, NE
SUMMARY:Parent & ESU Seminar
END:VEVENT
END:VCALENDAR
