BEGIN:VCALENDAR
VERSION:2.0
PRODID:-//www.disabilityrightsnebraska.org//NONSGML kigkonsult.se iCalcreat
 or 2.30.10//
CALSCALE:GREGORIAN
METHOD:PUBLISH
UID:b159eee2-3cf2-4219-9f77-bccdbce70a2b
X-WR-CALDESC:Join your fellow advocates at the State Capitol for Disability
  Pride Day! Take this opportunity to tell your Senator to preserve service
 s and supports for people with disabilities. Meet at the north stairs at C
 entennial Mall & K Street in Lincoln .
X-WR-RELCALID:f6909291354fb3396ec7b27470e9ab2b
X-WR-TIMEZONE:America/Chicago
BEGIN:VTIMEZONE
TZID:America/Chicago
BEGIN:STANDARD
TZNAME:CST
DTSTART:20161106T020000
TZOFFSETFROM:-0500
TZOFFSETTO:-0600
RDATE:20171105T020000
RDATE:20181104T020000
END:STANDARD
BEGIN:DAYLIGHT
TZNAME:CDT
DTSTART:20170312T020000
TZOFFSETFROM:-0600
TZOFFSETTO:-0500
RDATE:20180311T020000
END:DAYLIGHT
END:VTIMEZONE
BEGIN:VEVENT
UID:388afa3f-90df-4835-aa8d-c01085777469
DTSTAMP:20260422T102944Z
DESCRIPTION:Join your fellow advocates at the State Capitol for Disability 
 Pride Day! Take this opportunity to tell your Senator to preserve services
  and supports for people with disabilities. Meet at the north stairs at Ce
 ntennial Mall & K Street in Lincoln .
DTSTART;TZID=America/Chicago:20170713T130000
DTEND;TZID=America/Chicago:20170713T160000
LOCATION:Centennial Mall & K Street
SUMMARY:Disability Pride Day March
END:VEVENT
END:VCALENDAR
