BEGIN:VCALENDAR
VERSION:2.0
PRODID:-//www.disabilityrightsnebraska.org//NONSGML kigkonsult.se iCalcreat
 or 2.30.10//
CALSCALE:GREGORIAN
METHOD:PUBLISH
UID:abd0c8d9-d095-4d41-8f9d-53f51a67df4b
X-WR-CALDESC:A summer self-advocacy course for students with disabilities! 
 'It's All About the Plan' allows students to learn about and practice self
 -advocacy skills. Includes hands-on activities\, community speakers\, and 
 e-learning tools. Developed through a partnership between Disability Right
 s Nebraska\, Arc of Lincoln/ Autism Family Network\, and Fritz & O’Hare As
 sociates.  See flyer image above\, or go to link below to download more in
 formation.
X-WR-RELCALID:b19086ed049200d20492f4bc3461765f
X-WR-TIMEZONE:America/Chicago
BEGIN:VTIMEZONE
TZID:America/Chicago
BEGIN:STANDARD
TZNAME:CST
DTSTART:20161106T020000
TZOFFSETFROM:-0500
TZOFFSETTO:-0600
RDATE:20171105T020000
RDATE:20181104T020000
END:STANDARD
BEGIN:DAYLIGHT
TZNAME:CDT
DTSTART:20170312T020000
TZOFFSETFROM:-0600
TZOFFSETTO:-0500
RDATE:20180311T020000
END:DAYLIGHT
END:VTIMEZONE
BEGIN:VEVENT
UID:e07b7ff3-fd14-4ab4-9179-efa39701334c
DTSTAMP:20260424T093326Z
DESCRIPTION:A summer self-advocacy course for students with disabilities! '
 It's All About the Plan' allows students to learn about and practice self-
 advocacy skills. Includes hands-on activities\, community speakers\, and e
 -learning tools. Developed through a partnership between Disability Rights
  Nebraska\, Arc of Lincoln/ Autism Family Network\, and Fritz & O’Hare Ass
 ociates.  See flyer image above\, or go to link below to download more inf
 ormation.
DTSTART;TZID=America/Chicago:20170717T130000
DTEND;TZID=America/Chicago:20170720T153000
LOCATION:The Career Academy - Southeast Community College\, 8800 O St\, Lin
 coln
SUMMARY:It's All About the Plan - Summer Self-Advocacy Course
END:VEVENT
END:VCALENDAR
