BEGIN:VCALENDAR
VERSION:2.0
PRODID:-//www.disabilityrightsnebraska.org//NONSGML kigkonsult.se iCalcreat
 or 2.30.10//
CALSCALE:GREGORIAN
METHOD:PUBLISH
UID:86cdf86f-9bb9-410a-80a4-5a27fcebeb8e
X-WR-CALDESC:A summer self-advocacy course for students with disabilities! 
 'It's All About the Plan' allows students to learn about and practice self
 -advocacy skills. Includes hands-on activities\, community speakers\, and 
 e-learning tools. Developed through a partnership between Disability Right
 s Nebraska\, Arc of Lincoln/ Autism Family Network\, and Fritz & O’Hare As
 sociates.  See flyer image above\, or go to link below to download more in
 formation.
X-WR-RELCALID:8ee48bf0c0c8d7dc21b25613f5391a0c
X-WR-TIMEZONE:America/Chicago
BEGIN:VTIMEZONE
TZID:America/Chicago
BEGIN:STANDARD
TZNAME:CST
DTSTART:20161106T020000
TZOFFSETFROM:-0500
TZOFFSETTO:-0600
RDATE:20171105T020000
RDATE:20181104T020000
END:STANDARD
BEGIN:DAYLIGHT
TZNAME:CDT
DTSTART:20170312T020000
TZOFFSETFROM:-0600
TZOFFSETTO:-0500
RDATE:20180311T020000
END:DAYLIGHT
END:VTIMEZONE
BEGIN:VEVENT
UID:a26bc14b-9a72-4f7e-8b2a-9a4a2c09f35a
DTSTAMP:20260422T102944Z
DESCRIPTION:A summer self-advocacy course for students with disabilities! '
 It's All About the Plan' allows students to learn about and practice self-
 advocacy skills. Includes hands-on activities\, community speakers\, and e
 -learning tools. Developed through a partnership between Disability Rights
  Nebraska\, Arc of Lincoln/ Autism Family Network\, and Fritz & O’Hare Ass
 ociates.  See flyer image above\, or go to link below to download more inf
 ormation.
DTSTART;TZID=America/Chicago:20170717T090000
DTEND;TZID=America/Chicago:20170720T113000
LOCATION:The Career Academy - Southeast Community College\, 8800 O St\, Lin
 coln
SUMMARY:It's All About the Plan - Summer Self-Advocacy Course
END:VEVENT
END:VCALENDAR
