BEGIN:VCALENDAR
VERSION:2.0
PRODID:-//www.disabilityrightsnebraska.org//NONSGML kigkonsult.se iCalcreat
 or 2.30.10//
CALSCALE:GREGORIAN
METHOD:PUBLISH
UID:baa4ad23-d51f-45b8-b80e-be9808e7e725
X-WR-CALDESC:
X-WR-RELCALID:ceaf2ddfe51853a64e9e092167b1a4b0
X-WR-TIMEZONE:America/Chicago
BEGIN:VTIMEZONE
TZID:America/Chicago
BEGIN:STANDARD
TZNAME:CST
DTSTART:20161106T020000
TZOFFSETFROM:-0500
TZOFFSETTO:-0600
RDATE:20171105T020000
RDATE:20181104T020000
END:STANDARD
BEGIN:DAYLIGHT
TZNAME:CDT
DTSTART:20170312T020000
TZOFFSETFROM:-0600
TZOFFSETTO:-0500
RDATE:20180311T020000
END:DAYLIGHT
END:VTIMEZONE
BEGIN:VEVENT
UID:7d21775d-cdfe-4daf-b8a4-1d5f37480d46
DTSTAMP:20260424T094507Z
DESCRIPTION:
DTSTART;TZID=America/Chicago:20170722T130000
DTEND;TZID=America/Chicago:20170722T173000
LOCATION:211 North Washington St.\, Grand Island\, NE
SUMMARY:Parent & ESU Seminar
END:VEVENT
END:VCALENDAR
