BEGIN:VCALENDAR
VERSION:2.0
PRODID:-//www.disabilityrightsnebraska.org//NONSGML kigkonsult.se iCalcreat
 or 2.30.10//
CALSCALE:GREGORIAN
METHOD:PUBLISH
UID:5bcaeb9d-716f-46a6-a900-3a76b6ae48e1
X-WR-CALDESC:A free summer self-advocacy course for students with disabilit
 ies! ‘It’s All About the Plan!’ allows students to learn about and practic
 e self-advocacy skills. Includes hands-on activities\, community speakers\
 , and e-learning tools. Developed through a partnership between Disability
  Rights Nebraska\, Arc of Lincoln/ Autism Family Network\, and Fritz & O’H
 are Associates.  Any Scotts Bluff County student with a disability\, ages 
 14 to 21 can attend. See the link below to sign up now!  Space limited!  S
 ee the image\, above\, or contact Mindy Baird at mindy@drne.org  for more 
 details.
X-WR-RELCALID:d72aab381b0094cbeeef2bf488b2b61a
X-WR-TIMEZONE:America/Chicago
BEGIN:VTIMEZONE
TZID:America/Chicago
BEGIN:STANDARD
TZNAME:CST
DTSTART:20161106T020000
TZOFFSETFROM:-0500
TZOFFSETTO:-0600
RDATE:20171105T020000
RDATE:20181104T020000
END:STANDARD
BEGIN:DAYLIGHT
TZNAME:CDT
DTSTART:20170312T020000
TZOFFSETFROM:-0600
TZOFFSETTO:-0500
RDATE:20180311T020000
END:DAYLIGHT
END:VTIMEZONE
BEGIN:VEVENT
UID:c1c29167-f260-426f-95d3-1db2e6e43663
DTSTAMP:20260422T103356Z
DESCRIPTION:A free summer self-advocacy course for students with disabiliti
 es! ‘It’s All About the Plan!’ allows students to learn about and practice
  self-advocacy skills. Includes hands-on activities\, community speakers\,
  and e-learning tools. Developed through a partnership between Disability 
 Rights Nebraska\, Arc of Lincoln/ Autism Family Network\, and Fritz & O’Ha
 re Associates.  Any Scotts Bluff County student with a disability\, ages 1
 4 to 21 can attend. See the link below to sign up now!  Space limited!  Se
 e the image\, above\, or contact Mindy Baird at mindy@drne.org  for more d
 etails.
DTSTART;TZID=America/Chicago:20170724T130000
DTEND;TZID=America/Chicago:20170727T153000
LOCATION:Harms Advanced Technology Center Room 189 Western Nebraska Communi
 ty College 2620 College Park Scottsbluff\, NE
SUMMARY:SCOTTSBLUFF - 'It's All About the Plan' Summer Self-Advocacy Course
  for Students
END:VEVENT
END:VCALENDAR
