BEGIN:VCALENDAR
VERSION:2.0
PRODID:-//www.disabilityrightsnebraska.org//NONSGML kigkonsult.se iCalcreat
 or 2.30.10//
CALSCALE:GREGORIAN
METHOD:PUBLISH
UID:e8b2cfbb-68a1-4273-b48f-dc6ed111a13e
X-WR-CALDESC:
X-WR-RELCALID:dcf51d5fa4e1c3eb8cbd68ed16a7d07d
X-WR-TIMEZONE:America/Chicago
BEGIN:VTIMEZONE
TZID:America/Chicago
BEGIN:STANDARD
TZNAME:CST
DTSTART:20161106T020000
TZOFFSETFROM:-0500
TZOFFSETTO:-0600
RDATE:20171105T020000
RDATE:20181104T020000
END:STANDARD
BEGIN:DAYLIGHT
TZNAME:CDT
DTSTART:20170312T020000
TZOFFSETFROM:-0600
TZOFFSETTO:-0500
RDATE:20180311T020000
END:DAYLIGHT
END:VTIMEZONE
BEGIN:VEVENT
UID:9f370339-5b19-44d0-8829-21ecc3e23815
DTSTAMP:20260422T085518Z
DESCRIPTION:
DTSTART;TZID=America/Chicago:20170805T130000
DTEND;TZID=America/Chicago:20170805T173000
LOCATION:3701 Osborne Drive West\, Hastings\, NE
SUMMARY:Parent & ESU Seminar
END:VEVENT
END:VCALENDAR
