BEGIN:VCALENDAR
VERSION:2.0
PRODID:-//www.disabilityrightsnebraska.org//NONSGML kigkonsult.se iCalcreat
 or 2.30.10//
CALSCALE:GREGORIAN
METHOD:PUBLISH
UID:82a502cf-ff8c-42c3-ba0e-7a726277141e
X-WR-CALDESC:Following the film will be a panel discussion with Otis Rollin
 s\, an Outlook Nebraska Associate and machine operator who experienced vis
 ion loss in his twenties\; Tracy Grothe\, a professional counselor dedicat
 ed to supporting the mental health needs of people with disabilities\; and
  Dr. John Shepherd\, Director of the Weigel Williamson Center for Visual R
 ehabilitation at UNMC. Bekah Jerde\, Assistant Director of Radio Talking B
 ook Service will moderate.\n\nBuy tickets: https://48540.blackbaudhosting.
 com/48540/tickets?tab=2&txobjid=e4dcaf5d-8be5-42b8-b752-de56f76853ef
X-WR-RELCALID:dcf548bde8deb2c293026be4d24dd653
X-WR-TIMEZONE:America/Chicago
BEGIN:VTIMEZONE
TZID:America/Chicago
BEGIN:STANDARD
TZNAME:CST
DTSTART:20161106T020000
TZOFFSETFROM:-0500
TZOFFSETTO:-0600
RDATE:20171105T020000
RDATE:20181104T020000
END:STANDARD
BEGIN:DAYLIGHT
TZNAME:CDT
DTSTART:20170312T020000
TZOFFSETFROM:-0600
TZOFFSETTO:-0500
RDATE:20180311T020000
END:DAYLIGHT
END:VTIMEZONE
BEGIN:VEVENT
UID:553dfd9a-2d74-4585-83b5-be523dc34b67
DTSTAMP:20260422T085542Z
DESCRIPTION:Following the film will be a panel discussion with Otis Rollins
 \, an Outlook Nebraska Associate and machine operator who experienced visi
 on loss in his twenties\; Tracy Grothe\, a professional counselor dedicate
 d to supporting the mental health needs of people with disabilities\; and 
 Dr. John Shepherd\, Director of the Weigel Williamson Center for Visual Re
 habilitation at UNMC. Bekah Jerde\, Assistant Director of Radio Talking Bo
 ok Service will moderate.\n\nBuy tickets: https://48540.blackbaudhosting.c
 om/48540/tickets?tab=2&txobjid=e4dcaf5d-8be5-42b8-b752-de56f76853ef
DTSTART;TZID=America/Chicago:20170822T190000
DTEND;TZID=America/Chicago:20170822T210000
LOCATION:
SUMMARY:Collaborative Screening: Notes on Blindness
END:VEVENT
END:VCALENDAR
