BEGIN:VCALENDAR
VERSION:2.0
PRODID:-//www.disabilityrightsnebraska.org//NONSGML kigkonsult.se iCalcreat
 or 2.30.10//
CALSCALE:GREGORIAN
METHOD:PUBLISH
UID:43189a58-d3ce-4631-8795-a587c035b502
X-WR-CALDESC:Join us for an evening of addressing topics to support youth w
 ith disabilities as they transition to adult life. See image for details o
 f scheduled presentations. Times given for the event are Mountain Time.\n*
 ***RSVP BY SEPTEMBER 1ST \,  FOR FREE REGISTRATION  (FIRST COME FIRST SERV
 E\, UP TO 50 FREE REGISTRATIONS OFFERED)
X-WR-RELCALID:b796876bdda79e1e8852e354b4ba5a58
X-WR-TIMEZONE:America/Chicago
BEGIN:VTIMEZONE
TZID:America/Chicago
BEGIN:STANDARD
TZNAME:CST
DTSTART:20161106T020000
TZOFFSETFROM:-0500
TZOFFSETTO:-0600
RDATE:20171105T020000
RDATE:20181104T020000
END:STANDARD
BEGIN:DAYLIGHT
TZNAME:CDT
DTSTART:20170312T020000
TZOFFSETFROM:-0600
TZOFFSETTO:-0500
RDATE:20180311T020000
RDATE:20190310T020000
END:DAYLIGHT
END:VTIMEZONE
BEGIN:VEVENT
UID:44cb89ce-f4c5-4459-98bb-97f1397f79ad
DTSTAMP:20260422T071259Z
DESCRIPTION:Join us for an evening of addressing topics to support youth wi
 th disabilities as they transition to adult life. See image for details of
  scheduled presentations. Times given for the event are Mountain Time.\n**
 **RSVP BY SEPTEMBER 1ST \,  FOR FREE REGISTRATION  (FIRST COME FIRST SERVE
 \, UP TO 50 FREE REGISTRATIONS OFFERED)
DTSTART;TZID=America/Chicago:20170918T150000
DTEND;TZID=America/Chicago:20170918T203000
LOCATION:Western Nebraska Community College HARMS Center Scottsbluff\, Nebr
 aska Registration: Room 188/189
SUMMARY:GROWING PAINS: Supporting Youth with Disabilities - Parent and Comm
 unity Transition Night in Scottsbluff
END:VEVENT
END:VCALENDAR
