BEGIN:VCALENDAR
VERSION:2.0
PRODID:-//www.disabilityrightsnebraska.org//NONSGML kigkonsult.se iCalcreat
 or 2.30.10//
CALSCALE:GREGORIAN
METHOD:PUBLISH
UID:8239ef4d-1f30-4858-9c2a-11f2af42674f
X-WR-CALDESC:This event is open to all families with children with special 
 needs.  The kids will be able to participate in activities (including a la
 boratory experiment of making slime!) at the Explorit Science Center while
  parents and caregivers will have an opportunity to learn more about commu
 nity resources available to families with children with disabilities.
X-WR-RELCALID:65c0388381063965899a1f41cd71d37b
X-WR-TIMEZONE:America/Chicago
BEGIN:VTIMEZONE
TZID:America/Chicago
BEGIN:STANDARD
TZNAME:CST
DTSTART:20161106T020000
TZOFFSETFROM:-0500
TZOFFSETTO:-0600
RDATE:20171105T020000
RDATE:20181104T020000
END:STANDARD
BEGIN:DAYLIGHT
TZNAME:CDT
DTSTART:20170312T020000
TZOFFSETFROM:-0600
TZOFFSETTO:-0500
RDATE:20180311T020000
RDATE:20190310T020000
END:DAYLIGHT
END:VTIMEZONE
BEGIN:VEVENT
UID:ae44052d-d9de-4ca0-bf7b-82b8f4dcd977
DTSTAMP:20260422T065431Z
DESCRIPTION:This event is open to all families with children with special n
 eeds.  The kids will be able to participate in activities (including a lab
 oratory experiment of making slime!) at the Explorit Science Center while 
 parents and caregivers will have an opportunity to learn more about commun
 ity resources available to families with children with disabilities.
DTSTART;TZID=America/Chicago:20170923T100000
DTEND;TZID=America/Chicago:20170923T130000
LOCATION:The Edgerton Explorit Center
SUMMARY:Science Fun Event
END:VEVENT
END:VCALENDAR
