BEGIN:VCALENDAR
VERSION:2.0
PRODID:-//www.disabilityrightsnebraska.org//NONSGML kigkonsult.se iCalcreat
 or 2.30.10//
CALSCALE:GREGORIAN
METHOD:PUBLISH
UID:478e4ce6-722d-421c-abbc-f3d709d10c7d
X-WR-CALDESC:Disability Rights Nebraska will be hosting a Voter Registratio
 n Drive in celebration of National Voter Registration Day!  Hablamos Espan
 ol.  Stop in and say hello to Graciela Sharif and Yorleny Diaz!  For more 
 information on voting in Nebraska\, or to update your address or voting in
 formation\, check out the link\, below.
X-WR-RELCALID:900ad68a94a8d8569f7177a4a2c801b9
X-WR-TIMEZONE:America/Chicago
BEGIN:VTIMEZONE
TZID:America/Chicago
BEGIN:STANDARD
TZNAME:CST
DTSTART:20161106T020000
TZOFFSETFROM:-0500
TZOFFSETTO:-0600
RDATE:20171105T020000
RDATE:20181104T020000
END:STANDARD
BEGIN:DAYLIGHT
TZNAME:CDT
DTSTART:20170312T020000
TZOFFSETFROM:-0600
TZOFFSETTO:-0500
RDATE:20180311T020000
RDATE:20190310T020000
END:DAYLIGHT
END:VTIMEZONE
BEGIN:VEVENT
UID:8598a783-137c-4b19-909b-da7bb963a68b
DTSTAMP:20260422T065828Z
DESCRIPTION:Disability Rights Nebraska will be hosting a Voter Registration
  Drive in celebration of National Voter Registration Day!  Hablamos Espano
 l.  Stop in and say hello to Graciela Sharif and Yorleny Diaz!  For more i
 nformation on voting in Nebraska\, or to update your address or voting inf
 ormation\, check out the link\, below.
DTSTART;TZID=America/Chicago:20170926T093000
DTEND;TZID=America/Chicago:20170926T123000
LOCATION:South Omaha Library\, 2808 Q St\, Omaha\, NE 68107
SUMMARY:Voter Registration Drive - Nat'l Voter Registration Day
END:VEVENT
END:VCALENDAR
