BEGIN:VCALENDAR
VERSION:2.0
PRODID:-//www.disabilityrightsnebraska.org//NONSGML kigkonsult.se iCalcreat
 or 2.30.10//
CALSCALE:GREGORIAN
METHOD:PUBLISH
UID:c3d56016-71ee-4b32-9265-7a920a753082
X-WR-CALDESC:LB1056 - Provide for collection of data on student disciplinar
 y actions\nThe State Board of Education shall implement a statewide system
  for collecting data on school disciplinary measures and law enforcement r
 eferrals\, including the use of restraints and seclusion and expulsions/su
 spensions under zero tolerance policies. The data may be disaggregated by 
 race or ethnicity\, gender\, grade level\, and whether the student has an 
 identified learning or behavioral disability.\n\nFor full text of bill\, s
 ee link below.
X-WR-RELCALID:2421c3f8ba408265bf26065438a8db7e
X-WR-TIMEZONE:America/Chicago
BEGIN:VTIMEZONE
TZID:America/Chicago
BEGIN:STANDARD
TZNAME:CST
DTSTART:20171105T020000
TZOFFSETFROM:-0500
TZOFFSETTO:-0600
RDATE:20181104T020000
END:STANDARD
BEGIN:DAYLIGHT
TZNAME:CDT
DTSTART:20170312T020000
TZOFFSETFROM:-0600
TZOFFSETTO:-0500
RDATE:20180311T020000
RDATE:20190310T020000
END:DAYLIGHT
END:VTIMEZONE
BEGIN:VEVENT
UID:d30e2f4f-5d75-4eed-9d6d-60a54879ea09
DTSTAMP:20260421T231517Z
DESCRIPTION:LB1056 - Provide for collection of data on student disciplinary
  actions\nThe State Board of Education shall implement a statewide system 
 for collecting data on school disciplinary measures and law enforcement re
 ferrals\, including the use of restraints and seclusion and expulsions/sus
 pensions under zero tolerance policies. The data may be disaggregated by r
 ace or ethnicity\, gender\, grade level\, and whether the student has an i
 dentified learning or behavioral disability.\n\nFor full text of bill\, se
 e link below.
DTSTART;TZID=America/Chicago:20180206T133000
DTEND;TZID=America/Chicago:20180206T143000
LOCATION:Education Committee\, Room 1525\, Nebraska State Capitol Building
SUMMARY:LB 1056 Hearing
END:VEVENT
END:VCALENDAR
