BEGIN:VCALENDAR
VERSION:2.0
PRODID:-//www.disabilityrightsnebraska.org//NONSGML kigkonsult.se iCalcreat
 or 2.30.10//
CALSCALE:GREGORIAN
METHOD:PUBLISH
UID:05c741f3-bc4b-4ef8-bf20-7bda9cfd20ae
X-WR-CALDESC:\nHosted by The Arc of Buffalo County\, People First of Nebras
 ka\, Disability Rights Nebraska and The Arc of Nebraska \n \nMEET INSIDE T
 HE NORTH DOOR ON THE FIRST FLOOR OF THE CAPITOL.  (This is on the First Fl
 oor\, wheelchair-accessible entrance.)\nJoin with other Disability Self-Ad
 vocates and our Allies as we visit our state senators and their staff to l
 et them know what is important to Nebraskans with Disabilities!\n
X-WR-RELCALID:70bd5d7c9860b7d8ddfc6aef19db24a6
X-WR-TIMEZONE:America/Chicago
BEGIN:VTIMEZONE
TZID:America/Chicago
BEGIN:STANDARD
TZNAME:CST
DTSTART:20171105T020000
TZOFFSETFROM:-0500
TZOFFSETTO:-0600
RDATE:20181104T020000
END:STANDARD
BEGIN:DAYLIGHT
TZNAME:CDT
DTSTART:20170312T020000
TZOFFSETFROM:-0600
TZOFFSETTO:-0500
RDATE:20180311T020000
RDATE:20190310T020000
END:DAYLIGHT
END:VTIMEZONE
BEGIN:VEVENT
UID:a4b9ade3-7902-41f6-ad74-90220c0f004e
DTSTAMP:20260421T232211Z
DESCRIPTION:\nHosted by The Arc of Buffalo County\, People First of Nebrask
 a\, Disability Rights Nebraska and The Arc of Nebraska \n \nMEET INSIDE TH
 E NORTH DOOR ON THE FIRST FLOOR OF THE CAPITOL.  (This is on the First Flo
 or\, wheelchair-accessible entrance.)\nJoin with other Disability Self-Adv
 ocates and our Allies as we visit our state senators and their staff to le
 t them know what is important to Nebraskans with Disabilities!\n
DTSTART;TZID=America/Chicago:20180208T130000
DTEND;TZID=America/Chicago:20180208T150000
LOCATION:Nebraska State Capitol Building\, North Door\, First Floor (Under 
 North Steps)
SUMMARY:Disability Legislative Advocacy Day Senator Visits
END:VEVENT
END:VCALENDAR
