BEGIN:VCALENDAR
VERSION:2.0
PRODID:-//www.disabilityrightsnebraska.org//NONSGML kigkonsult.se iCalcreat
 or 2.30.10//
CALSCALE:GREGORIAN
METHOD:PUBLISH
UID:ffe3f2d2-693c-4e0b-8515-b3bc27299d14
X-WR-CALDESC:
X-WR-RELCALID:8d895849f647d4a603bef250ffeff636
X-WR-TIMEZONE:America/Chicago
BEGIN:VTIMEZONE
TZID:America/Chicago
BEGIN:STANDARD
TZNAME:CST
DTSTART:20171105T020000
TZOFFSETFROM:-0500
TZOFFSETTO:-0600
RDATE:20181104T020000
END:STANDARD
BEGIN:DAYLIGHT
TZNAME:CDT
DTSTART:20170312T020000
TZOFFSETFROM:-0600
TZOFFSETTO:-0500
RDATE:20180311T020000
RDATE:20190310T020000
END:DAYLIGHT
END:VTIMEZONE
BEGIN:VEVENT
UID:00822bec-ef9e-47b6-9b00-014431808b5b
DTSTAMP:20260421T232231Z
DESCRIPTION:
DTSTART;TZID=America/Chicago:20180208T180000
DTEND;TZID=America/Chicago:20180208T210000
LOCATION:The Cornhusker Marriott
SUMMARY:The Arc of Nebraska's Senatorial Dinner
END:VEVENT
END:VCALENDAR
