BEGIN:VCALENDAR
VERSION:2.0
PRODID:-//www.disabilityrightsnebraska.org//NONSGML kigkonsult.se iCalcreat
 or 2.30.10//
CALSCALE:GREGORIAN
METHOD:PUBLISH
UID:cc0424a3-66cc-4cb9-8881-408c2ad6faf2
X-WR-CALDESC:LR 281CA - Constitutional amendment that affordable health car
 e is right\; expand Medicaid eligibility\n\nDisability Rights Nebraska wil
 l write a letter to the Nebraska Legislature in support of LR 281CA. \n
X-WR-RELCALID:8fba8acb34d28e1b93cf56f932ab83ba
X-WR-TIMEZONE:America/Chicago
BEGIN:VTIMEZONE
TZID:America/Chicago
BEGIN:STANDARD
TZNAME:CST
DTSTART:20171105T020000
TZOFFSETFROM:-0500
TZOFFSETTO:-0600
RDATE:20181104T020000
END:STANDARD
BEGIN:DAYLIGHT
TZNAME:CDT
DTSTART:20170312T020000
TZOFFSETFROM:-0600
TZOFFSETTO:-0500
RDATE:20180311T020000
RDATE:20190310T020000
END:DAYLIGHT
END:VTIMEZONE
BEGIN:VEVENT
UID:d53db444-df8d-4e22-a5e3-df50f2e9c69c
DTSTAMP:20260421T232231Z
DESCRIPTION:LR 281CA - Constitutional amendment that affordable health care
  is right\; expand Medicaid eligibility\n\nDisability Rights Nebraska will
  write a letter to the Nebraska Legislature in support of LR 281CA. \n
DTSTART;TZID=America/Chicago:20180221T133000
DTEND;TZID=America/Chicago:20180221T170000
LOCATION:Nebraska State Capitol\, Health and Human Services\, Room 1510
SUMMARY:LR 281CA
END:VEVENT
END:VCALENDAR
