BEGIN:VCALENDAR
VERSION:2.0
PRODID:-//www.disabilityrightsnebraska.org//NONSGML kigkonsult.se iCalcreat
 or 2.30.10//
CALSCALE:GREGORIAN
METHOD:PUBLISH
UID:caa4031e-c931-4b60-99b8-1e2fe4824474
X-WR-CALDESC:LR 296: Appoint a special committee known as the State-License
 d Care Facilities Investigative Committee of the Legislature\n\nLR 296 pro
 poses to appoint a committee to study the conditions and treatment of indi
 viduals with mental illness within State-Licensed Care Facilities. The com
 mittee would also serve to investigate what the department has done to imp
 lement Technical Assistance & Consultation recommendations regarding housi
 ng for persons with mental illness and to study whether the department is 
 taking adequate steps to ensure behavioral health services are administere
 d in the most integrated setting pursuant to the Americans with Disabiliti
 es Act. \n
X-WR-RELCALID:9332b5131733b6097d780acc6982e1a5
X-WR-TIMEZONE:America/Chicago
BEGIN:VTIMEZONE
TZID:America/Chicago
BEGIN:STANDARD
TZNAME:CST
DTSTART:20171105T020000
TZOFFSETFROM:-0500
TZOFFSETTO:-0600
RDATE:20181104T020000
END:STANDARD
BEGIN:DAYLIGHT
TZNAME:CDT
DTSTART:20170312T020000
TZOFFSETFROM:-0600
TZOFFSETTO:-0500
RDATE:20180311T020000
RDATE:20190310T020000
END:DAYLIGHT
END:VTIMEZONE
BEGIN:VEVENT
UID:df29cca9-e4a0-452c-b3af-54957b121f4a
DTSTAMP:20260421T231630Z
DESCRIPTION:LR 296: Appoint a special committee known as the State-Licensed
  Care Facilities Investigative Committee of the Legislature\n\nLR 296 prop
 oses to appoint a committee to study the conditions and treatment of indiv
 iduals with mental illness within State-Licensed Care Facilities. The comm
 ittee would also serve to investigate what the department has done to impl
 ement Technical Assistance & Consultation recommendations regarding housin
 g for persons with mental illness and to study whether the department is t
 aking adequate steps to ensure behavioral health services are administered
  in the most integrated setting pursuant to the Americans with Disabilitie
 s Act. \n
DTSTART;TZID=America/Chicago:20180221T120000
DTEND;TZID=America/Chicago:20180221T170000
LOCATION:Nebraska State Capitol\, Executive Board\, Room 2102
SUMMARY:LR 296 Hearing
END:VEVENT
END:VCALENDAR
