BEGIN:VCALENDAR
VERSION:2.0
PRODID:-//www.disabilityrightsnebraska.org//NONSGML kigkonsult.se iCalcreat
 or 2.30.10//
CALSCALE:GREGORIAN
METHOD:PUBLISH
UID:6dc1a27c-cf50-45fe-9e63-d22ff9285ec1
X-WR-CALDESC:LB 1112 - Change provisions relating to placement and detentio
 n of juveniles and permit an additional use of funds under the Community-b
 ased Juvenile Services Aid Program\n\nIndividuals with disabilities have b
 een statistically more likely to be subject to juvenile detention. If enac
 ted\, LB 1112 would likely result in children avoiding detention and the t
 rauma related thereto. Disability Rights Nebraska supports this legislativ
 e bill.
X-WR-RELCALID:2d5027d2e2f3a942e9dcc3d746234c1c
X-WR-TIMEZONE:America/Chicago
BEGIN:VTIMEZONE
TZID:America/Chicago
BEGIN:STANDARD
TZNAME:CST
DTSTART:20171105T020000
TZOFFSETFROM:-0500
TZOFFSETTO:-0600
RDATE:20181104T020000
END:STANDARD
BEGIN:DAYLIGHT
TZNAME:CDT
DTSTART:20170312T020000
TZOFFSETFROM:-0600
TZOFFSETTO:-0500
RDATE:20180311T020000
RDATE:20190310T020000
END:DAYLIGHT
END:VTIMEZONE
BEGIN:VEVENT
UID:64d0712a-b06b-481b-9db1-86c1636dcc29
DTSTAMP:20260421T231747Z
DESCRIPTION:LB 1112 - Change provisions relating to placement and detention
  of juveniles and permit an additional use of funds under the Community-ba
 sed Juvenile Services Aid Program\n\nIndividuals with disabilities have be
 en statistically more likely to be subject to juvenile detention. If enact
 ed\, LB 1112 would likely result in children avoiding detention and the tr
 auma related thereto. Disability Rights Nebraska supports this legislative
  bill.
DTSTART;TZID=America/Chicago:20180222T133000
DTEND;TZID=America/Chicago:20180222T170000
LOCATION:Nebraska State Capitol\, Judiciary\, Rm 1113
SUMMARY:LB 1112 Hearing
END:VEVENT
END:VCALENDAR
