BEGIN:VCALENDAR
VERSION:2.0
PRODID:-//www.disabilityrightsnebraska.org//NONSGML kigkonsult.se iCalcreat
 or 2.30.10//
CALSCALE:GREGORIAN
METHOD:PUBLISH
UID:a838c998-e7f3-40ca-9281-cc3aca1f1347
X-WR-CALDESC:LB 686 - Adopt the Psychology Interjurisdictional Compact\n\nT
 he Compact is intended to authorize state psychology regulatory authoritie
 s to afford legal recognition\, in a manner consistent with the terms of t
 he Compact\, to psychologists licensed in another state. The Compact is de
 signed to increase public access to professional psychological services by
  allowing for telepsychological practice across state lines as well as tem
 porary in-person\, face-to-face services into a state which the psychologi
 st is not licensed to practice psychology. Disability Rights Nebraska inte
 nds to monitor this bill.
X-WR-RELCALID:4be4d8ba21b5ff0b9c743f32e00b22fd
X-WR-TIMEZONE:America/Chicago
BEGIN:VTIMEZONE
TZID:America/Chicago
BEGIN:STANDARD
TZNAME:CST
DTSTART:20171105T020000
TZOFFSETFROM:-0500
TZOFFSETTO:-0600
RDATE:20181104T020000
END:STANDARD
BEGIN:DAYLIGHT
TZNAME:CDT
DTSTART:20170312T020000
TZOFFSETFROM:-0600
TZOFFSETTO:-0500
RDATE:20180311T020000
RDATE:20190310T020000
END:DAYLIGHT
END:VTIMEZONE
BEGIN:VEVENT
UID:acb246c7-abcb-417c-b6a9-1d2df495bbc2
DTSTAMP:20260421T232216Z
DESCRIPTION:LB 686 - Adopt the Psychology Interjurisdictional Compact\n\nTh
 e Compact is intended to authorize state psychology regulatory authorities
  to afford legal recognition\, in a manner consistent with the terms of th
 e Compact\, to psychologists licensed in another state. The Compact is des
 igned to increase public access to professional psychological services by 
 allowing for telepsychological practice across state lines as well as temp
 orary in-person\, face-to-face services into a state which the psychologis
 t is not licensed to practice psychology. Disability Rights Nebraska inten
 ds to monitor this bill.
DTSTART;TZID=America/Chicago:20180222T133000
DTEND;TZID=America/Chicago:20180222T170000
LOCATION:Nebraska State Capitol\, Health and Human Services\, Room 1510
SUMMARY:LB 286 Hearing
END:VEVENT
END:VCALENDAR
