BEGIN:VCALENDAR
VERSION:2.0
PRODID:-//www.disabilityrightsnebraska.org//NONSGML kigkonsult.se iCalcreat
 or 2.30.10//
CALSCALE:GREGORIAN
METHOD:PUBLISH
UID:cb7bd9aa-3417-4d64-8489-d285828eb008
X-WR-CALDESC:LB 686 - Adopt the Psychology Interjurisdictional Compact\n\nT
 he Compact is intended to authorize state psychology regulatory authoritie
 s to afford legal recognition\, in a manner consistent with the terms of t
 he Compact\, to psychologists licensed in another state. The Compact is de
 signed to increase public access to professional psychological services by
  allowing for telepsychological practice across state lines as well as tem
 porary in-person\, face-to-face services into a state which the psychologi
 st is not licensed to practice. Disability Rights Nebraska intends to moni
 tor this bill.
X-WR-RELCALID:80d82a0a28a1a7f5b077badcd9018801
X-WR-TIMEZONE:America/Chicago
BEGIN:VTIMEZONE
TZID:America/Chicago
BEGIN:STANDARD
TZNAME:CST
DTSTART:20171105T020000
TZOFFSETFROM:-0500
TZOFFSETTO:-0600
RDATE:20181104T020000
END:STANDARD
BEGIN:DAYLIGHT
TZNAME:CDT
DTSTART:20170312T020000
TZOFFSETFROM:-0600
TZOFFSETTO:-0500
RDATE:20180311T020000
RDATE:20190310T020000
END:DAYLIGHT
END:VTIMEZONE
BEGIN:VEVENT
UID:36a2fd20-0d63-46e9-bda5-9b0bba749d04
DTSTAMP:20260421T232212Z
DESCRIPTION:LB 686 - Adopt the Psychology Interjurisdictional Compact\n\nTh
 e Compact is intended to authorize state psychology regulatory authorities
  to afford legal recognition\, in a manner consistent with the terms of th
 e Compact\, to psychologists licensed in another state. The Compact is des
 igned to increase public access to professional psychological services by 
 allowing for telepsychological practice across state lines as well as temp
 orary in-person\, face-to-face services into a state which the psychologis
 t is not licensed to practice. Disability Rights Nebraska intends to monit
 or this bill.
DTSTART;TZID=America/Chicago:20180222T133000
DTEND;TZID=America/Chicago:20180222T170000
LOCATION:Nebraska State Capitol\, Health and Human Services\, Room 1510
SUMMARY:LB 686 Hearing
END:VEVENT
END:VCALENDAR
