BEGIN:VCALENDAR
VERSION:2.0
PRODID:-//www.disabilityrightsnebraska.org//NONSGML kigkonsult.se iCalcreat
 or 2.30.10//
CALSCALE:GREGORIAN
METHOD:PUBLISH
UID:6f4c3528-0ac7-43f9-a215-f1a8c28958be
X-WR-CALDESC:LB 835: Provide for independent audits and reviews under the N
 ebraska Behavioral Health Services Act\n\nLB 835\, sponsored by Senator Ho
 ward\, proposes to increase restrictions on Behavioral Health Managed Care
  Organizations. Disability Rights Nebraska supports this bill. \n
X-WR-RELCALID:67e08eca65621d7e0e4134e4dd80bfff
X-WR-TIMEZONE:America/Chicago
BEGIN:VTIMEZONE
TZID:America/Chicago
BEGIN:STANDARD
TZNAME:CST
DTSTART:20171105T020000
TZOFFSETFROM:-0500
TZOFFSETTO:-0600
RDATE:20181104T020000
END:STANDARD
BEGIN:DAYLIGHT
TZNAME:CDT
DTSTART:20170312T020000
TZOFFSETFROM:-0600
TZOFFSETTO:-0500
RDATE:20180311T020000
RDATE:20190310T020000
END:DAYLIGHT
END:VTIMEZONE
BEGIN:VEVENT
UID:f525c678-655f-4eea-83fb-08041d2a1538
DTSTAMP:20260421T232339Z
DESCRIPTION:LB 835: Provide for independent audits and reviews under the Ne
 braska Behavioral Health Services Act\n\nLB 835\, sponsored by Senator How
 ard\, proposes to increase restrictions on Behavioral Health Managed Care 
 Organizations. Disability Rights Nebraska supports this bill. \n
DTSTART;TZID=America/Chicago:20180223T133000
DTEND;TZID=America/Chicago:20180223T163000
LOCATION:Nebraska State Capitol\, Health and Human Services\, Room 1510
SUMMARY:LB 835 Hearing
END:VEVENT
END:VCALENDAR
