BEGIN:VCALENDAR
VERSION:2.0
PRODID:-//www.disabilityrightsnebraska.org//NONSGML kigkonsult.se iCalcreat
 or 2.30.10//
CALSCALE:GREGORIAN
METHOD:PUBLISH
UID:3f8e3d55-62c3-4ad5-8be8-170eac53348a
X-WR-CALDESC:LB 968 - Adopt the Disability Employment and Engagement Progra
 m Act\n\nLB 968 would allow people with disabilities who are working to ma
 intain Medicaid up to 400%. It would also create an advisory council meeti
 ng to implement the Disablity Employment and Engagement Program Act. Disab
 ility Rights Nebraska will testify in support of LB 968 at its upcoming he
 aring. \n
X-WR-RELCALID:0082babda2400a390d00a2417c94a33b
X-WR-TIMEZONE:America/Chicago
BEGIN:VTIMEZONE
TZID:America/Chicago
BEGIN:STANDARD
TZNAME:CST
DTSTART:20171105T020000
TZOFFSETFROM:-0500
TZOFFSETTO:-0600
RDATE:20181104T020000
END:STANDARD
BEGIN:DAYLIGHT
TZNAME:CDT
DTSTART:20170312T020000
TZOFFSETFROM:-0600
TZOFFSETTO:-0500
RDATE:20180311T020000
RDATE:20190310T020000
END:DAYLIGHT
END:VTIMEZONE
BEGIN:VEVENT
UID:9df9febe-e2e0-4b0c-882d-ff782b475b74
DTSTAMP:20260421T232052Z
DESCRIPTION:LB 968 - Adopt the Disability Employment and Engagement Program
  Act\n\nLB 968 would allow people with disabilities who are working to mai
 ntain Medicaid up to 400%. It would also create an advisory council meetin
 g to implement the Disablity Employment and Engagement Program Act. Disabi
 lity Rights Nebraska will testify in support of LB 968 at its upcoming hea
 ring. \n
DTSTART;TZID=America/Chicago:20180223T133000
DTEND;TZID=America/Chicago:20180223T170000
LOCATION:Nebraska State Capitol\, Health and Human Services\, Rm 1510
SUMMARY:LB 968 Hearing
END:VEVENT
END:VCALENDAR
