BEGIN:VCALENDAR
VERSION:2.0
PRODID:-//www.disabilityrightsnebraska.org//NONSGML kigkonsult.se iCalcreat
 or 2.30.10//
CALSCALE:GREGORIAN
METHOD:PUBLISH
UID:6364abde-66b5-4ebe-9b93-404631198271
X-WR-CALDESC:LB 1126 - Adopt the Sexual Assault Survivors' Bill of Rights A
 ct\n\nLB 1126 proposes to codify rights of sexual assault survivors\, incl
 uding their right to have counsel and be made aware of rights under the Se
 xual Assault Survivors' Bill of Rights Act before medical or law enforceme
 nt questioning.
X-WR-RELCALID:fc42936d26abdc1fecde4c622cc21665
X-WR-TIMEZONE:America/Chicago
BEGIN:VTIMEZONE
TZID:America/Chicago
BEGIN:STANDARD
TZNAME:CST
DTSTART:20171105T020000
TZOFFSETFROM:-0500
TZOFFSETTO:-0600
RDATE:20181104T020000
END:STANDARD
BEGIN:DAYLIGHT
TZNAME:CDT
DTSTART:20170312T020000
TZOFFSETFROM:-0600
TZOFFSETTO:-0500
RDATE:20180311T020000
RDATE:20190310T020000
END:DAYLIGHT
END:VTIMEZONE
BEGIN:VEVENT
UID:8f379932-a6a6-46a1-a2a4-6ab2f95e0a70
DTSTAMP:20260421T231352Z
DESCRIPTION:LB 1126 - Adopt the Sexual Assault Survivors' Bill of Rights Ac
 t\n\nLB 1126 proposes to codify rights of sexual assault survivors\, inclu
 ding their right to have counsel and be made aware of rights under the Sex
 ual Assault Survivors' Bill of Rights Act before medical or law enforcemen
 t questioning.
DTSTART;TZID=America/Chicago:20180227T133000
DTEND;TZID=America/Chicago:20180227T170000
LOCATION:Nebraska State Capitol\, Judiciary\, Room 1113
SUMMARY:LB 1126 Hearing
END:VEVENT
END:VCALENDAR
